BEGIN:VCALENDAR
VERSION:2.0
PRODID:-//www.wwvdn.org//NONSGML kigkonsult.se iCalcreator 2.30.10//
CALSCALE:GREGORIAN
METHOD:PUBLISH
UID:5f1382bc-813b-4fdf-a7a9-5b123a6949d9
X-WR-CALDESC:SOAR June events are for individuals age 13 and older and are 
 as follows:\n\nMonday\, June 19 - Life Skill Opportunity - Employment: Pot
 ential Jobs & Work Attire\n(Register BEFORE Sunday\, June 18 at 6:00 pm)\n
 5 pm - 7 pm\nHosted by the P2P Transition Team & Goodwill\n\nJoin us to le
 arn about potential jobs and how to dress for success! We will meet at Goo
 dwill to tour the facility and take a look at proper work attire. Afterwar
 ds we will walk over to Mod Pizza and grab a bite to eat!\n\nDrop Off:\nGo
 odwill\n1017 NE C St.\, College Place\n\nPick Up:\nMod Pizza\n1658 W Popla
 r St Suite 101\, Walla Walla\n\nPlease register for this event by clicking
  the green button above.\nReminder: Registration for all SOAR events close
 s at 6:00 pm the Sunday before the event.\n
X-WR-RELCALID:65db6ef257982951627e938b181de636
X-WR-TIMEZONE:America/Los_Angeles
BEGIN:VTIMEZONE
TZID:America/Los_Angeles
BEGIN:STANDARD
TZNAME:PST
DTSTART:20221106T020000
TZOFFSETFROM:-0700
TZOFFSETTO:-0800
RDATE:20231105T020000
RDATE:20241103T020000
END:STANDARD
BEGIN:DAYLIGHT
TZNAME:PDT
DTSTART:20230312T020000
TZOFFSETFROM:-0800
TZOFFSETTO:-0700
RDATE:20240310T020000
END:DAYLIGHT
END:VTIMEZONE
BEGIN:VEVENT
UID:f1bba75f-8e0a-4335-94f5-ee4b056bc322
DTSTAMP:20260421T001408Z
DESCRIPTION:SOAR June events are for individuals age 13 and older and are a
 s follows:\n\nMonday\, June 19 - Life Skill Opportunity - Employment: Pote
 ntial Jobs & Work Attire\n(Register BEFORE Sunday\, June 18 at 6:00 pm)\n5
  pm - 7 pm\nHosted by the P2P Transition Team & Goodwill\n\nJoin us to lea
 rn about potential jobs and how to dress for success! We will meet at Good
 will to tour the facility and take a look at proper work attire. Afterward
 s we will walk over to Mod Pizza and grab a bite to eat!\n\nDrop Off:\nGoo
 dwill\n1017 NE C St.\, College Place\n\nPick Up:\nMod Pizza\n1658 W Poplar
  St Suite 101\, Walla Walla\n\nPlease register for this event by clicking 
 the green button above.\nReminder: Registration for all SOAR events closes
  at 6:00 pm the Sunday before the event.\n
DTSTART;TZID=America/Los_Angeles:20230619T170000
DTEND;TZID=America/Los_Angeles:20230619T190000
LOCATION:
SUMMARY:SOAR in June (Employment: Potential Jobs & Work Attire)
END:VEVENT
END:VCALENDAR
