BEGIN:VCALENDAR
VERSION:2.0
PRODID:-//www.wwvdn.org//NONSGML kigkonsult.se iCalcreator 2.30.10//
CALSCALE:GREGORIAN
METHOD:PUBLISH
UID:4e756420-ea41-4c32-a5fd-582af4eb2c4d
X-WR-CALDESC:Drinks\, and paper products will be provided.  \n\nIf your las
 t name begins with:\n     ~  A-K bring a side dish\n     ~  L-R bring a de
 ssert\n     ~  S-Z bring a main dish\n\nPlease come enjoy each other’s com
 pany while sharing a meal and playing games.\nBring a lawn chair or blanke
 t and join us!\nPlease RSVP by Tuesday\, July 11th above (green button).\n
 \n
X-WR-RELCALID:8b4569a8214bd85628d8150e0fd986c4
X-WR-TIMEZONE:America/Los_Angeles
BEGIN:VTIMEZONE
TZID:America/Los_Angeles
BEGIN:STANDARD
TZNAME:PST
DTSTART:20221106T020000
TZOFFSETFROM:-0700
TZOFFSETTO:-0800
RDATE:20231105T020000
RDATE:20241103T020000
END:STANDARD
BEGIN:DAYLIGHT
TZNAME:PDT
DTSTART:20230312T020000
TZOFFSETFROM:-0800
TZOFFSETTO:-0700
RDATE:20240310T020000
END:DAYLIGHT
END:VTIMEZONE
BEGIN:VEVENT
UID:2794a0f0-ff82-404c-aace-e5d78876006d
DTSTAMP:20260420T022304Z
DESCRIPTION:Drinks\, and paper products will be provided.  \n\nIf your last
  name begins with:\n     ~  A-K bring a side dish\n     ~  L-R bring a des
 sert\n     ~  S-Z bring a main dish\n\nPlease come enjoy each other’s comp
 any while sharing a meal and playing games.\nBring a lawn chair or blanket
  and join us!\nPlease RSVP by Tuesday\, July 11th above (green button).\n
 \n
DTSTART;TZID=America/Los_Angeles:20230712T180000
DTEND;TZID=America/Los_Angeles:20230712T200000
LOCATION:Wildwood Park\, 7 S. Division St\, Walla Walla
SUMMARY:P2P Family Potluck & Games
END:VEVENT
END:VCALENDAR
