BEGIN:VCALENDAR
VERSION:2.0
PRODID:-//www.wwvdn.org//NONSGML kigkonsult.se iCalcreator 2.30.10//
CALSCALE:GREGORIAN
METHOD:PUBLISH
UID:44b6fd56-e686-4a6b-9c63-81d41e3164bf
X-WR-CALDESC:SOAR in October events are for individuals age 13 and older an
 d are as follows:\n\nSaturday\, Oct 30 - Corn Maze\nTime: 2:00 pm - 4:00 p
 m\nCost: Please bring $15 per person for admission\n\n*October will finish
  off with a fun experience at the Corn Maze.\n\n~~~~~~~~~~\n\nPlease regis
 ter by clicking the Registration button above.\nReminder: Registration for
  all SOAR events closes at 6:00 pm the Sunday before the event.\n
X-WR-RELCALID:d9219fdaee09f6f5938f7dcf9f0e2ecb
X-WR-TIMEZONE:America/Los_Angeles
BEGIN:VTIMEZONE
TZID:America/Los_Angeles
BEGIN:STANDARD
TZNAME:PST
DTSTART:20221106T020000
TZOFFSETFROM:-0700
TZOFFSETTO:-0800
RDATE:20231105T020000
RDATE:20241103T020000
END:STANDARD
BEGIN:DAYLIGHT
TZNAME:PDT
DTSTART:20230312T020000
TZOFFSETFROM:-0800
TZOFFSETTO:-0700
RDATE:20240310T020000
RDATE:20250309T020000
END:DAYLIGHT
END:VTIMEZONE
BEGIN:VEVENT
UID:15eb08bc-1a2a-4ba8-8a56-5c390e151aac
DTSTAMP:20260421T100117Z
DESCRIPTION:SOAR in October events are for individuals age 13 and older and
  are as follows:\n\nSaturday\, Oct 30 - Corn Maze\nTime: 2:00 pm - 4:00 pm
 \nCost: Please bring $15 per person for admission\n\n*October will finish 
 off with a fun experience at the Corn Maze.\n\n~~~~~~~~~~\n\nPlease regist
 er by clicking the Registration button above.\nReminder: Registration for 
 all SOAR events closes at 6:00 pm the Sunday before the event.\n
DTSTART;TZID=America/Los_Angeles:20231028T140000
DTEND;TZID=America/Los_Angeles:20231028T160000
LOCATION:
SUMMARY:SOAR in October: Corn Maze
END:VEVENT
END:VCALENDAR
