BEGIN:VCALENDAR
VERSION:2.0
PRODID:-//www.wwvdn.org//NONSGML kigkonsult.se iCalcreator 2.30.10//
CALSCALE:GREGORIAN
METHOD:PUBLISH
UID:e4996794-73e0-4bd2-ba3c-3dd012c48b1c
X-WR-CALDESC:Basketball meets on the following Fridays: January 5\, 12\, 19
 \, 26\, and February 2 & 9\n\nTimes:\n  ~ 5:00-6:00 pm School-Aged Basketb
 all\n  ~ 6:00-7:00 pm Adult Basketball\n\nCost: $30 per player\n\nPlease r
 egister by clicking the blue 'Register for Challenger Basketball' button a
 bove.
X-WR-RELCALID:62971c286029460026c77a1a024578fa
X-WR-TIMEZONE:America/Los_Angeles
BEGIN:VTIMEZONE
TZID:America/Los_Angeles
BEGIN:STANDARD
TZNAME:PST
DTSTART:20231105T020000
TZOFFSETFROM:-0700
TZOFFSETTO:-0800
RDATE:20241103T020000
END:STANDARD
BEGIN:DAYLIGHT
TZNAME:PDT
DTSTART:20230312T020000
TZOFFSETFROM:-0800
TZOFFSETTO:-0700
RDATE:20240310T020000
RDATE:20250309T020000
END:DAYLIGHT
END:VTIMEZONE
BEGIN:VEVENT
UID:a0114d32-6319-435e-926e-d00bb56ceaa8
DTSTAMP:20260421T211419Z
DESCRIPTION:Basketball meets on the following Fridays: January 5\, 12\, 19\
 , 26\, and February 2 & 9\n\nTimes:\n  ~ 5:00-6:00 pm School-Aged Basketba
 ll\n  ~ 6:00-7:00 pm Adult Basketball\n\nCost: $30 per player\n\nPlease re
 gister by clicking the blue 'Register for Challenger Basketball' button ab
 ove.
DTSTART;TZID=America/Los_Angeles:20240105T170000
DTEND;TZID=America/Los_Angeles:20240105T190000
LOCATION:Edison Elementary School Gym - 1315 E Alder St\, Walla Walla
SUMMARY:Challenger Basketball (School-Aged 5-6 pm & Adult 6-7 pm)
END:VEVENT
END:VCALENDAR
