BEGIN:VCALENDAR
VERSION:2.0
PRODID:-//www.wwvdn.org//NONSGML kigkonsult.se iCalcreator 2.30.10//
CALSCALE:GREGORIAN
METHOD:PUBLISH
UID:3e92b77a-4737-4c17-bb2d-e62d88de6379
X-WR-CALDESC:This FREE incredibly fun special needs workshop is being offer
 ed to families and kids by the Little Theatre of Walla Walla and is taught
  by the Missoula Children's Theatre.\n\nWorkshop: Put Your Best Foot Forwa
 rd\nGet your groove on with this fun\, physical workshop. Students will le
 arn different styles of movement and dance used in Theatre to create an in
 terpretive dance of a classic fairytale! This workshop is great for all le
 vels of movers.\n\nAges - Finished Kindergarten to (no upper limit)\n\nPle
 ase register (blue button above) to let us know you're coming.
X-WR-RELCALID:4297d5d508f1c5c2058f8e0a4ef732b1
X-WR-TIMEZONE:America/Los_Angeles
BEGIN:VTIMEZONE
TZID:America/Los_Angeles
BEGIN:STANDARD
TZNAME:PST
DTSTART:20231105T020000
TZOFFSETFROM:-0700
TZOFFSETTO:-0800
RDATE:20241103T020000
RDATE:20251102T020000
END:STANDARD
BEGIN:DAYLIGHT
TZNAME:PDT
DTSTART:20240310T020000
TZOFFSETFROM:-0800
TZOFFSETTO:-0700
RDATE:20250309T020000
END:DAYLIGHT
END:VTIMEZONE
BEGIN:VEVENT
UID:21723039-f6ac-4429-ad42-8934b04af1f3
DTSTAMP:20260421T093833Z
DESCRIPTION:This FREE incredibly fun special needs workshop is being offere
 d to families and kids by the Little Theatre of Walla Walla and is taught 
 by the Missoula Children's Theatre.\n\nWorkshop: Put Your Best Foot Forwar
 d\nGet your groove on with this fun\, physical workshop. Students will lea
 rn different styles of movement and dance used in Theatre to create an int
 erpretive dance of a classic fairytale! This workshop is great for all lev
 els of movers.\n\nAges - Finished Kindergarten to (no upper limit)\n\nPlea
 se register (blue button above) to let us know you're coming.
DTSTART;TZID=America/Los_Angeles:20240626T143000
DTEND;TZID=America/Los_Angeles:20240626T151500
LOCATION:Little Theatre of Walla Walla\, 1130 Sumach\, Walla Walla
SUMMARY:Missoula Children's Theatre Workshop: Put Your Best Foot Forward
END:VEVENT
END:VCALENDAR
