BEGIN:VCALENDAR
VERSION:2.0
PRODID:-//www.wwvdn.org//NONSGML kigkonsult.se iCalcreator 2.30.10//
CALSCALE:GREGORIAN
METHOD:PUBLISH
UID:b5267adf-efe6-4c1d-a81c-2623661080ff
X-WR-CALDESC:Get ready to spread some love and unleash your creativity at H
 earts & Crafts\, the ultimate Valentine’s card and craft-making night! Whe
 ther you’re crafting for a sweetheart\, a best friend\, or just for fun\, 
 this is your chance to design heartfelt cards and one-of-a-kind creations 
 that are sure to make someone smile.\n\nWe’ll provide all the supplies—gli
 tter\, glue\, stickers\, and more—so you can focus on having fun and makin
 g memories. No crafting experience? No problem! Our friendly volunteers wi
 ll be on hand to guide you through the process.\n\nBring your creativity a
 nd your love for all things crafty for an evening full of laughter\, fun\,
  and inspiration. Let’s craft something special together!\n\nCome for the 
 crafts\, stay for the good vibes\, and leave with handmade treasures that 
 will make Valentine’s Day extra special. We can’t wait to see your masterp
 iece!
X-WR-RELCALID:720e247fee25c4abd9e464539d1262cd
X-WR-TIMEZONE:America/Los_Angeles
BEGIN:VTIMEZONE
TZID:America/Los_Angeles
BEGIN:STANDARD
TZNAME:PST
DTSTART:20241103T020000
TZOFFSETFROM:-0700
TZOFFSETTO:-0800
RDATE:20251102T020000
END:STANDARD
BEGIN:DAYLIGHT
TZNAME:PDT
DTSTART:20240310T020000
TZOFFSETFROM:-0800
TZOFFSETTO:-0700
RDATE:20250309T020000
RDATE:20260308T020000
END:DAYLIGHT
END:VTIMEZONE
BEGIN:VEVENT
UID:25e21996-7f1c-44d3-be23-2edb4de3a5ed
DTSTAMP:20260421T100638Z
DESCRIPTION:Get ready to spread some love and unleash your creativity at He
 arts & Crafts\, the ultimate Valentine’s card and craft-making night! Whet
 her you’re crafting for a sweetheart\, a best friend\, or just for fun\, t
 his is your chance to design heartfelt cards and one-of-a-kind creations t
 hat are sure to make someone smile.\n\nWe’ll provide all the supplies—glit
 ter\, glue\, stickers\, and more—so you can focus on having fun and making
  memories. No crafting experience? No problem! Our friendly volunteers wil
 l be on hand to guide you through the process.\n\nBring your creativity an
 d your love for all things crafty for an evening full of laughter\, fun\, 
 and inspiration. Let’s craft something special together!\n\nCome for the c
 rafts\, stay for the good vibes\, and leave with handmade treasures that w
 ill make Valentine’s Day extra special. We can’t wait to see your masterpi
 ece!
DTSTART;TZID=America/Los_Angeles:20250211T170000
DTEND;TZID=America/Los_Angeles:20250211T190000
LOCATION:
SUMMARY:SOAR Hearts & Crafts: A Valentine's Creation Celebration
END:VEVENT
END:VCALENDAR
