BEGIN:VCALENDAR
VERSION:2.0
PRODID:-//www.wwvdn.org//NONSGML kigkonsult.se iCalcreator 2.30.10//
CALSCALE:GREGORIAN
METHOD:PUBLISH
UID:55099e93-326d-4774-a103-1bbc1063dcdc
X-WR-CALDESC:This is a fun time to bowl with family and friends! You can al
 so grab some food\, hit the arcade\, or sit and chat while you're there.\n
 \n$3.25 per game per person to be paid to WWVDN staff at the bowling alley
 .\n\nSince we only have four lanes available and a maximum of 20 people pl
 aying\, please specify during registration which members of your group wil
 l be bowling.
X-WR-RELCALID:37870645598d6aaa73f69d454c40d073
X-WR-TIMEZONE:America/Los_Angeles
BEGIN:VTIMEZONE
TZID:America/Los_Angeles
BEGIN:STANDARD
TZNAME:PST
DTSTART:20241103T020000
TZOFFSETFROM:-0700
TZOFFSETTO:-0800
RDATE:20251102T020000
END:STANDARD
BEGIN:DAYLIGHT
TZNAME:PDT
DTSTART:20240310T020000
TZOFFSETFROM:-0800
TZOFFSETTO:-0700
RDATE:20250309T020000
RDATE:20260308T020000
END:DAYLIGHT
END:VTIMEZONE
BEGIN:VEVENT
UID:881ea235-d7a8-4c1f-a134-9806aff0c949
DTSTAMP:20260421T100822Z
DESCRIPTION:This is a fun time to bowl with family and friends! You can als
 o grab some food\, hit the arcade\, or sit and chat while you're there.\n
 \n$3.25 per game per person to be paid to WWVDN staff at the bowling alley
 .\n\nSince we only have four lanes available and a maximum of 20 people pl
 aying\, please specify during registration which members of your group wil
 l be bowling.
DTSTART;TZID=America/Los_Angeles:20250215T120000
DTEND;TZID=America/Los_Angeles:20250215T140000
LOCATION:Bowlaway Lanes\, 411 Ash st. \, Walla Walla\, WA 99362 US
SUMMARY:P2P Family Bowling (Week 3)
END:VEVENT
END:VCALENDAR
