BEGIN:VCALENDAR
VERSION:2.0
PRODID:-//www.wwvdn.org//NONSGML kigkonsult.se iCalcreator 2.30.10//
CALSCALE:GREGORIAN
METHOD:PUBLISH
UID:b79014c0-5593-40cd-8539-187a632f7479
X-WR-CALDESC:Join Parent-to-Parent at the YMCA for a free fun Zumba class e
 xperience. Childcare will be provided. Please RSVP by Sunday\, February 16
 .
X-WR-RELCALID:144b2874e3ad9abe5a5cc0470c6cf8e2
X-WR-TIMEZONE:America/Los_Angeles
BEGIN:VTIMEZONE
TZID:America/Los_Angeles
BEGIN:STANDARD
TZNAME:PST
DTSTART:20241103T020000
TZOFFSETFROM:-0700
TZOFFSETTO:-0800
RDATE:20251102T020000
END:STANDARD
BEGIN:DAYLIGHT
TZNAME:PDT
DTSTART:20240310T020000
TZOFFSETFROM:-0800
TZOFFSETTO:-0700
RDATE:20250309T020000
RDATE:20260308T020000
END:DAYLIGHT
END:VTIMEZONE
BEGIN:VEVENT
UID:578bf6bd-9511-4266-96ef-eb97635e1260
DTSTAMP:20260421T100316Z
DESCRIPTION:Join Parent-to-Parent at the YMCA for a free fun Zumba class ex
 perience. Childcare will be provided. Please RSVP by Sunday\, February 16.
DTSTART;TZID=America/Los_Angeles:20250219T173000
DTEND;TZID=America/Los_Angeles:20250219T183000
LOCATION:YMCA\, 340 S Park St.\, Walla Walla\, WA 99362 US
SUMMARY:P2P Zumba Class
END:VEVENT
END:VCALENDAR
