BEGIN:VCALENDAR
VERSION:2.0
PRODID:-//www.wwvdn.org//NONSGML kigkonsult.se iCalcreator 2.30.10//
CALSCALE:GREGORIAN
METHOD:PUBLISH
UID:bf423a73-1a83-4321-b9c3-01ff22e3b79a
X-WR-CALDESC:Join us for a Spring Fling Scavenger Hunt & Movie — an afterno
 on filled with adventure\, games\, and a little Easter magic! Start off by
  enjoying fun games and activities with friends\, then a scavenger hunt to
  locate hidden Easter items (with a special treat at the end)\, To top it 
 all off\, relax and watch the movie HOP\, with delicious popcorn and snack
 s available throughout the screening.\n\nWhat to Expect:\n- Exciting Easte
 r-themed scavenger hunt with surprises\n- Fun games and activities \n- Mov
 ie screening of HOP with popcorn and snacks\n\nCome celebrate the season w
 ith laughter\, games\, and tasty treats while enjoying a little movie magi
 c!
X-WR-RELCALID:519b066ebbb45e7453e8e8bb992c0143
X-WR-TIMEZONE:America/Los_Angeles
BEGIN:VTIMEZONE
TZID:America/Los_Angeles
BEGIN:STANDARD
TZNAME:PST
DTSTART:20241103T020000
TZOFFSETFROM:-0700
TZOFFSETTO:-0800
RDATE:20251102T020000
END:STANDARD
BEGIN:DAYLIGHT
TZNAME:PDT
DTSTART:20250309T020000
TZOFFSETFROM:-0800
TZOFFSETTO:-0700
RDATE:20260308T020000
END:DAYLIGHT
END:VTIMEZONE
BEGIN:VEVENT
UID:e1cd8f43-deb6-4551-9d99-02ab33239167
DTSTAMP:20260419T123927Z
DESCRIPTION:Join us for a Spring Fling Scavenger Hunt & Movie — an afternoo
 n filled with adventure\, games\, and a little Easter magic! Start off by 
 enjoying fun games and activities with friends\, then a scavenger hunt to 
 locate hidden Easter items (with a special treat at the end)\, To top it a
 ll off\, relax and watch the movie HOP\, with delicious popcorn and snacks
  available throughout the screening.\n\nWhat to Expect:\n- Exciting Easter
 -themed scavenger hunt with surprises\n- Fun games and activities \n- Movi
 e screening of HOP with popcorn and snacks\n\nCome celebrate the season wi
 th laughter\, games\, and tasty treats while enjoying a little movie magic
 !
DTSTART;TZID=America/Los_Angeles:20250412T150000
DTEND;TZID=America/Los_Angeles:20250412T170000
LOCATION:
SUMMARY:SOAR Spring Fling Scavenger Hunt & Movie
END:VEVENT
END:VCALENDAR
