BEGIN:VCALENDAR
VERSION:2.0
PRODID:-//www.wwvdn.org//NONSGML kigkonsult.se iCalcreator 2.30.10//
CALSCALE:GREGORIAN
METHOD:PUBLISH
UID:84dcff7b-2322-48e6-a989-19fb2f456d66
X-WR-CALDESC:Thank you to our 2025 Sponsors: Jersey Mike's Subs\, Tate Tran
 sportation\, Gary & Carla L Nibler\, Tom's Yard Care\, Hawkins Law PLLC\, 
 M-F Drive In Theater\, Banner Bank\, Tiny Acres Preschool\, Nielson Eye Ca
 re\, Hess Law Office\, Blue Crane Bioenergetics\, School of Education & Ps
 ychology at Walla Walla University\, Walla Walla Orthodontics\, Noble Hunt
 \, Carman Wagner Consulting\, Country Store Consignment & Antique Mall\, A
 gricounting\n\nThroughout their lives\, children and adults with disabilit
 ies generally experience a focus on their limitations rather than their st
 rengths\, interests\, talents\, and achievements. Since 2016\, the Walla W
 alla Valley Disability Network has hosted an annual Ability Walk & Roll to
  educate the greater community while honoring and celebrating people who h
 ave a variety of disabilities. Join friends\, family\, and community membe
 rs with disabilities and those that love them as we walk and roll at Colle
 ge Place High School to celebrate and honor them.\n\nAdmission is free — d
 onations gratefully accepted. Every dollar you give will be doubled throug
 h a generous matching grant from the JTMF Foundation!\n\n~~~~~~~~~~\n\nSch
 edule of Events for Ability Walk & Roll 2025\, Saturday\, April 26\, 2025:
 \n12:45 pm Check In opens for pre-registered and same day registration par
 ticipants\n1:00 pm Activities and fun begins\n1:30 pm Ability Walk & Roll 
 along the paved path begins\nStroll along the Wall of Champions to see the
  amazing people in our community.\n\nEvent Contacts:\n\nSarah Spiess | sar
 ah.spiess@gmail.com | (509) 629-3215\nElise Hawkins| elisehawkins@outlook.
 com \nShamra Baez | shamra@wwvdn.org | (509) 255-3779
X-WR-RELCALID:74c6d12aaaea8ace2d7581c10ddbe6b6
X-WR-TIMEZONE:America/Los_Angeles
BEGIN:VTIMEZONE
TZID:America/Los_Angeles
BEGIN:STANDARD
TZNAME:PST
DTSTART:20241103T020000
TZOFFSETFROM:-0700
TZOFFSETTO:-0800
RDATE:20251102T020000
END:STANDARD
BEGIN:DAYLIGHT
TZNAME:PDT
DTSTART:20250309T020000
TZOFFSETFROM:-0800
TZOFFSETTO:-0700
RDATE:20260308T020000
END:DAYLIGHT
END:VTIMEZONE
BEGIN:VEVENT
UID:041000d0-9a3a-46f6-93ac-dff16125b1b2
DTSTAMP:20260421T093715Z
DESCRIPTION:Thank you to our 2025 Sponsors: Jersey Mike's Subs\, Tate Trans
 portation\, Gary & Carla L Nibler\, Tom's Yard Care\, Hawkins Law PLLC\, M
 -F Drive In Theater\, Banner Bank\, Tiny Acres Preschool\, Nielson Eye Car
 e\, Hess Law Office\, Blue Crane Bioenergetics\, School of Education & Psy
 chology at Walla Walla University\, Walla Walla Orthodontics\, Noble Hunt\
 , Carman Wagner Consulting\, Country Store Consignment & Antique Mall\, Ag
 ricounting\n\nThroughout their lives\, children and adults with disabiliti
 es generally experience a focus on their limitations rather than their str
 engths\, interests\, talents\, and achievements. Since 2016\, the Walla Wa
 lla Valley Disability Network has hosted an annual Ability Walk & Roll to 
 educate the greater community while honoring and celebrating people who ha
 ve a variety of disabilities. Join friends\, family\, and community member
 s with disabilities and those that love them as we walk and roll at Colleg
 e Place High School to celebrate and honor them.\n\nAdmission is free — do
 nations gratefully accepted. Every dollar you give will be doubled through
  a generous matching grant from the JTMF Foundation!\n\n~~~~~~~~~~\n\nSche
 dule of Events for Ability Walk & Roll 2025\, Saturday\, April 26\, 2025:
 \n12:45 pm Check In opens for pre-registered and same day registration par
 ticipants\n1:00 pm Activities and fun begins\n1:30 pm Ability Walk & Roll 
 along the paved path begins\nStroll along the Wall of Champions to see the
  amazing people in our community.\n\nEvent Contacts:\n\nSarah Spiess | sar
 ah.spiess@gmail.com | (509) 629-3215\nElise Hawkins| elisehawkins@outlook.
 com \nShamra Baez | shamra@wwvdn.org | (509) 255-3779
DTSTART;TZID=America/Los_Angeles:20250426T130000
DTEND;TZID=America/Los_Angeles:20250426T143000
LOCATION:College Place High School Track\, 1755 S College Ave\, College Pla
 ce\, WA 99324 US
SUMMARY:Ability Walk & Roll 2025
END:VEVENT
END:VCALENDAR
