BEGIN:VCALENDAR
VERSION:2.0
PRODID:-//www.wwvdn.org//NONSGML kigkonsult.se iCalcreator 2.30.10//
CALSCALE:GREGORIAN
METHOD:PUBLISH
UID:7f705aac-0b07-47a6-a120-fc376df2e7e4
X-WR-CALDESC:Come let us pamper you! Enjoy some lunch\, facials\, crafts\, 
 hand pampering\, and more!\n\nLimited spots available so register now!
X-WR-RELCALID:90feaba37a1c7288bffe811fcbe97f39
X-WR-TIMEZONE:America/Los_Angeles
BEGIN:VTIMEZONE
TZID:America/Los_Angeles
BEGIN:STANDARD
TZNAME:PST
DTSTART:20241103T020000
TZOFFSETFROM:-0700
TZOFFSETTO:-0800
RDATE:20251102T020000
RDATE:20261101T020000
END:STANDARD
BEGIN:DAYLIGHT
TZNAME:PDT
DTSTART:20250309T020000
TZOFFSETFROM:-0800
TZOFFSETTO:-0700
RDATE:20260308T020000
END:DAYLIGHT
END:VTIMEZONE
BEGIN:VEVENT
UID:74a57b83-28d8-428f-81a4-67ee41f5fb76
DTSTAMP:20260420T084317Z
DESCRIPTION:Come let us pamper you! Enjoy some lunch\, facials\, crafts\, h
 and pampering\, and more!\n\nLimited spots available so register now!
DTSTART;TZID=America/Los_Angeles:20250524T110000
DTEND;TZID=America/Los_Angeles:20250524T150000
LOCATION:Center for Children and Families\, 1150 W. Chestnut St.\, Walla Wa
 lla\, WA 99362 US
SUMMARY:P2P Mom's Day Out
END:VEVENT
END:VCALENDAR
