BEGIN:VCALENDAR
VERSION:2.0
PRODID:-//www.wwvdn.org//NONSGML kigkonsult.se iCalcreator 2.30.10//
CALSCALE:GREGORIAN
METHOD:PUBLISH
UID:16f2664c-4c46-4900-8253-019e56586fdc
X-WR-CALDESC:(For ages 18 or older)\n\nGet ready for a night of music\, mov
 ement\, and memories at the Whitman Buddy Ball! Dress fancy or casual - wh
 atever makes you feel your best\, and prepare to dance off with your Whitm
 an Buddies in an evening full of laughter\, friendship\, and fun.\n\n\nNo 
 pressure\, no fancy steps. Just good vibes\, great people\, and a night yo
 u’ll be sure to remember!\n\n
X-WR-RELCALID:1f61e3feea10d129df51d30e7a1c0cd2
X-WR-TIMEZONE:America/Los_Angeles
BEGIN:VTIMEZONE
TZID:America/Los_Angeles
BEGIN:STANDARD
TZNAME:PST
DTSTART:20251102T020000
TZOFFSETFROM:-0700
TZOFFSETTO:-0800
RDATE:20261101T020000
END:STANDARD
BEGIN:DAYLIGHT
TZNAME:PDT
DTSTART:20250309T020000
TZOFFSETFROM:-0800
TZOFFSETTO:-0700
RDATE:20260308T020000
RDATE:20270314T020000
END:DAYLIGHT
END:VTIMEZONE
BEGIN:VEVENT
UID:9c762563-88d3-41ea-922e-c06551b944b8
DTSTAMP:20260420T084125Z
DESCRIPTION:(For ages 18 or older)\n\nGet ready for a night of music\, move
 ment\, and memories at the Whitman Buddy Ball! Dress fancy or casual - wha
 tever makes you feel your best\, and prepare to dance off with your Whitma
 n Buddies in an evening full of laughter\, friendship\, and fun.\n\n\nNo p
 ressure\, no fancy steps. Just good vibes\, great people\, and a night you
 ’ll be sure to remember!\n\n
DTSTART;TZID=America/Los_Angeles:20251209T173000
DTEND;TZID=America/Los_Angeles:20251209T183000
LOCATION:Elopement Risk Level 1 - With Volunteers
SUMMARY:Whitman Buddy Program: Buddy Ball
END:VEVENT
END:VCALENDAR
