BEGIN:VCALENDAR
VERSION:2.0
PRODID:-//www.wwvdn.org//NONSGML kigkonsult.se iCalcreator 2.30.10//
CALSCALE:GREGORIAN
METHOD:PUBLISH
UID:cadb2872-c2ef-40d5-b7c9-d511c06c8aaa
X-WR-CALDESC:SOAR events are for individuals age 13 and older. Registration
  for each event closes the Sunday before the event at 6:00 pm.\n\nBring yo
 ur sweet creativity and join us for The Great Gingerbread Showdown! Partic
 ipants will decorate pre-built gingerbread houses\, no assembly needed\, j
 ust plenty of frosting\, candy\, and imagination.\n\nFinished early? Enjoy
  a few extra holiday crafts while the judges admire your handiwork! All co
 mpleted houses will stay on display at the Walla Walla Center for Children
  & Families\, where students and staff will vote for their favorite design
 .\n\nThe winning gingerbread masterpiece will be revealed at Breakfast wit
 h Santa! Remember\, you must pick up your house at the Breakfast with Sant
 a event\; any left behind will be discarded.\n\nIt’s going to be a delicio
 usly fun night filled with creativity\, laughter\, and holiday cheer!
X-WR-RELCALID:7404f5746432b12e5564037b67e17b7d
X-WR-TIMEZONE:America/Los_Angeles
BEGIN:VTIMEZONE
TZID:America/Los_Angeles
BEGIN:STANDARD
TZNAME:PST
DTSTART:20251102T020000
TZOFFSETFROM:-0700
TZOFFSETTO:-0800
RDATE:20261101T020000
END:STANDARD
BEGIN:DAYLIGHT
TZNAME:PDT
DTSTART:20250309T020000
TZOFFSETFROM:-0800
TZOFFSETTO:-0700
RDATE:20260308T020000
RDATE:20270314T020000
END:DAYLIGHT
END:VTIMEZONE
BEGIN:VEVENT
UID:c78ca0f2-56a0-43b8-bc78-ef01b0b9d008
DTSTAMP:20260420T083143Z
DESCRIPTION:SOAR events are for individuals age 13 and older. Registration 
 for each event closes the Sunday before the event at 6:00 pm.\n\nBring you
 r sweet creativity and join us for The Great Gingerbread Showdown! Partici
 pants will decorate pre-built gingerbread houses\, no assembly needed\, ju
 st plenty of frosting\, candy\, and imagination.\n\nFinished early? Enjoy 
 a few extra holiday crafts while the judges admire your handiwork! All com
 pleted houses will stay on display at the Walla Walla Center for Children 
 & Families\, where students and staff will vote for their favorite design.
 \n\nThe winning gingerbread masterpiece will be revealed at Breakfast with
  Santa! Remember\, you must pick up your house at the Breakfast with Santa
  event\; any left behind will be discarded.\n\nIt’s going to be a deliciou
 sly fun night filled with creativity\, laughter\, and holiday cheer!
DTSTART;TZID=America/Los_Angeles:20251210T170000
DTEND;TZID=America/Los_Angeles:20251210T190000
LOCATION:Elopement Risk Level 1 - With Volunteers
SUMMARY:SOAR Deck the Houses
END:VEVENT
END:VCALENDAR
