BEGIN:VCALENDAR
VERSION:2.0
PRODID:-//www.wwvdn.org//NONSGML kigkonsult.se iCalcreator 2.30.10//
CALSCALE:GREGORIAN
METHOD:PUBLISH
UID:228ddc22-f985-467b-aea5-0cc7f22f6e5c
X-WR-CALDESC:Join us for a hearty breakfast\, and bring your phone for phot
 os with our special visitor. There will be games & activities\, friends\, 
 and a presentation of our 'You Made A Difference' awards as we celebrate t
 he holiday season.
X-WR-RELCALID:0597758c23d619610c5bba3f21d75b56
X-WR-TIMEZONE:America/Los_Angeles
BEGIN:VTIMEZONE
TZID:America/Los_Angeles
BEGIN:STANDARD
TZNAME:PST
DTSTART:20251102T020000
TZOFFSETFROM:-0700
TZOFFSETTO:-0800
RDATE:20261101T020000
END:STANDARD
BEGIN:DAYLIGHT
TZNAME:PDT
DTSTART:20250309T020000
TZOFFSETFROM:-0800
TZOFFSETTO:-0700
RDATE:20260308T020000
RDATE:20270314T020000
END:DAYLIGHT
END:VTIMEZONE
BEGIN:VEVENT
UID:f2fa00b3-0410-46da-9335-0feacb863841
DTSTAMP:20260420T084125Z
DESCRIPTION:Join us for a hearty breakfast\, and bring your phone for photo
 s with our special visitor. There will be games & activities\, friends\, a
 nd a presentation of our 'You Made A Difference' awards as we celebrate th
 e holiday season.
DTSTART;TZID=America/Los_Angeles:20251220T090000
DTEND;TZID=America/Los_Angeles:20251220T110000
LOCATION:Blue Mountain Community Church\, 928 Sturm Ave.\, Walla Walla\, WA
  99362 US
SUMMARY:P2P Breakfast With Santa
END:VEVENT
END:VCALENDAR
