BEGIN:VCALENDAR
VERSION:2.0
PRODID:-//www.wwvdn.org//NONSGML kigkonsult.se iCalcreator 2.30.10//
CALSCALE:GREGORIAN
METHOD:PUBLISH
UID:abcc2293-5b2e-4e30-899d-9ab49595d178
X-WR-CALDESC:RISE events are for children ages 8-12 with intellectual and d
 evelopmental disabilities\; no prior group experience necessary. Registrat
 ion for each event closes the Sunday before the event at 6:00 pm.\n\nRISE 
 is a play- and experience-based\, structured program where children explor
 e confidence\, friendships\, and early independence in a safe and supporti
 ve environment. Sessions run 90 minutes. Participation is encouraged\, not
  forced.\n\nKick off RISE with activities to build safety\, belonging\, an
 d group identity. Participants will play name games\, create a group or pe
 rsonal art project\, enjoy cooperative games\, and share a quick reflectio
 n while having a snack.
X-WR-RELCALID:736919b560df383df7673e2173fffcbd
X-WR-TIMEZONE:America/Los_Angeles
BEGIN:VTIMEZONE
TZID:America/Los_Angeles
BEGIN:STANDARD
TZNAME:PST
DTSTART:20251102T020000
TZOFFSETFROM:-0700
TZOFFSETTO:-0800
RDATE:20261101T020000
END:STANDARD
BEGIN:DAYLIGHT
TZNAME:PDT
DTSTART:20250309T020000
TZOFFSETFROM:-0800
TZOFFSETTO:-0700
RDATE:20260308T020000
RDATE:20270314T020000
END:DAYLIGHT
END:VTIMEZONE
BEGIN:VEVENT
UID:97c276da-6283-408e-8aff-ebf9904a5098
DTSTAMP:20260420T103203Z
DESCRIPTION:RISE events are for children ages 8-12 with intellectual and de
 velopmental disabilities\; no prior group experience necessary. Registrati
 on for each event closes the Sunday before the event at 6:00 pm.\n\nRISE i
 s a play- and experience-based\, structured program where children explore
  confidence\, friendships\, and early independence in a safe and supportiv
 e environment. Sessions run 90 minutes. Participation is encouraged\, not 
 forced.\n\nKick off RISE with activities to build safety\, belonging\, and
  group identity. Participants will play name games\, create a group or per
 sonal art project\, enjoy cooperative games\, and share a quick reflection
  while having a snack.
DTSTART;TZID=America/Los_Angeles:20260105T153000
DTEND;TZID=America/Los_Angeles:20260105T170000
LOCATION:Elopement Risk Level 1 - With Volunteers
SUMMARY:RISE Getting to Know You
END:VEVENT
END:VCALENDAR
