BEGIN:VCALENDAR
VERSION:2.0
PRODID:-//www.wwvdn.org//NONSGML kigkonsult.se iCalcreator 2.30.10//
CALSCALE:GREGORIAN
METHOD:PUBLISH
UID:513ab1e3-d1a4-46f8-ac3e-81134ab7165b
X-WR-CALDESC:SOAR events are for individuals age 13 and older. Registration
  for each event closes the Sunday before the event at 6:00 pm. \n\nGrab a 
 bingo card and settle in for a cozy evening of classic fun! Dinner will be
  provided: Mac and Cheese\, Chicken Nuggets\, and Apple Slices. Whether yo
 u’re aiming for a win or just enjoying the company\, SOAR Bingo Night is a
 ll about laughter\, encouragement\, and spending time together in a relaxe
 d\, welcoming space. Plus\, there will be bingo prizes for winners! Come r
 eady to play\, cheer\, and maybe shout “Bingo!”\n\nSOAR programming made p
 ossible by Connect2Everyone grant support from Greater Health Now.
X-WR-RELCALID:f760868f0f75da34bb01eceae55c149a
X-WR-TIMEZONE:America/Los_Angeles
BEGIN:VTIMEZONE
TZID:America/Los_Angeles
BEGIN:STANDARD
TZNAME:PST
DTSTART:20251102T020000
TZOFFSETFROM:-0700
TZOFFSETTO:-0800
RDATE:20261101T020000
END:STANDARD
BEGIN:DAYLIGHT
TZNAME:PDT
DTSTART:20250309T020000
TZOFFSETFROM:-0800
TZOFFSETTO:-0700
RDATE:20260308T020000
RDATE:20270314T020000
END:DAYLIGHT
END:VTIMEZONE
BEGIN:VEVENT
UID:91207070-bb42-4a62-b2b1-6dae76826c2b
DTSTAMP:20260420T101525Z
DESCRIPTION:SOAR events are for individuals age 13 and older. Registration 
 for each event closes the Sunday before the event at 6:00 pm. \n\nGrab a b
 ingo card and settle in for a cozy evening of classic fun! Dinner will be 
 provided: Mac and Cheese\, Chicken Nuggets\, and Apple Slices. Whether you
 ’re aiming for a win or just enjoying the company\, SOAR Bingo Night is al
 l about laughter\, encouragement\, and spending time together in a relaxed
 \, welcoming space. Plus\, there will be bingo prizes for winners! Come re
 ady to play\, cheer\, and maybe shout “Bingo!”\n\nSOAR programming made po
 ssible by Connect2Everyone grant support from Greater Health Now.
DTSTART;TZID=America/Los_Angeles:20260105T173000
DTEND;TZID=America/Los_Angeles:20260105T193000
LOCATION:Elopement Risk Level 1 - With Volunteers
SUMMARY:SOAR Bingo Night (Lucky Numbers & Laughs)
END:VEVENT
END:VCALENDAR
