BEGIN:VCALENDAR
VERSION:2.0
PRODID:-//www.wwvdn.org//NONSGML kigkonsult.se iCalcreator 2.30.10//
CALSCALE:GREGORIAN
METHOD:PUBLISH
UID:229d9456-be4d-45d6-b4c6-b3248ff77719
X-WR-CALDESC:LIFT events are for children ages 5-8 with intellectual and de
 velopmental disabilities\; no prior group experience necessary. Registrati
 on for this event closes Wednesday\, January 31st.\n\nLIFT is a play-based
 \, structured program where children explore creativity\, social skills\, 
 and movement in a safe and joyful environment. Sessions run 90 minutes. Pa
 rticipation is encouraged\, not forced.\n\nExplore identity\, choice\, and
  movement in this fun session. Participants will engage in choice-based ar
 t\, explore sensory bins and activities\, enjoy guided movement activity t
 hrough Danny Go – Talking with My Body | Sign Language Dance and The Color
  Dance Game\, enjoy free play\, and share favorite colors during snack tim
 e.
X-WR-RELCALID:7de8a050a3734ae23ab2b0de823d3b6b
X-WR-TIMEZONE:America/Los_Angeles
BEGIN:VTIMEZONE
TZID:America/Los_Angeles
BEGIN:STANDARD
TZNAME:PST
DTSTART:20251102T020000
TZOFFSETFROM:-0700
TZOFFSETTO:-0800
RDATE:20261101T020000
END:STANDARD
BEGIN:DAYLIGHT
TZNAME:PDT
DTSTART:20250309T020000
TZOFFSETFROM:-0800
TZOFFSETTO:-0700
RDATE:20260308T020000
RDATE:20270314T020000
END:DAYLIGHT
END:VTIMEZONE
BEGIN:VEVENT
UID:c7402c58-20fc-4a3d-8966-091e0b6ea75c
DTSTAMP:20260420T102808Z
DESCRIPTION:LIFT events are for children ages 5-8 with intellectual and dev
 elopmental disabilities\; no prior group experience necessary. Registratio
 n for this event closes Wednesday\, January 31st.\n\nLIFT is a play-based\
 , structured program where children explore creativity\, social skills\, a
 nd movement in a safe and joyful environment. Sessions run 90 minutes. Par
 ticipation is encouraged\, not forced.\n\nExplore identity\, choice\, and 
 movement in this fun session. Participants will engage in choice-based art
 \, explore sensory bins and activities\, enjoy guided movement activity th
 rough Danny Go – Talking with My Body | Sign Language Dance and The Color 
 Dance Game\, enjoy free play\, and share favorite colors during snack time
 .
DTSTART;TZID=America/Los_Angeles:20260112T153000
DTEND;TZID=America/Los_Angeles:20260112T170000
LOCATION:Elopement Risk Level 1 - With Volunteers
SUMMARY:LIFT All About Me
END:VEVENT
END:VCALENDAR
