BEGIN:VCALENDAR
VERSION:2.0
PRODID:-//www.wwvdn.org//NONSGML kigkonsult.se iCalcreator 2.30.10//
CALSCALE:GREGORIAN
METHOD:PUBLISH
UID:14b1a90e-db43-4802-9800-e4a316b5975d
X-WR-CALDESC:Connect & Play is for Parents/Caregivers (Connect) and childre
 n with disabilities & their siblings under 12 years old (Play).\n\nA hands
 -on\, interactive session for the whole family!\n\nFor Parents: Learn abou
 t Visual Supports and create your own communication boards to support ever
 yday routines.\n\nFor Kids: Engage in fun activities that tie directly to 
 the visual supports parents are making.\n\n1.) Match the Card to the Routi
 ne Game – match picture cards to common routines like snack time or tidy u
 p\n\n2.) Storytelling with Pictures – pick picture cards to tell a short s
 tory or act it out\n\n3.) MyPlate Snack Creation – use a visual plate to b
 uild a balanced snack\n\nThis session is all about learning\, playing\, an
 d connecting together while reinforcing skills in a fun\, hands-on way.\n
 \n(Registration deadline is the Sunday before the event)\n\nFunding for Co
 nnect & Play provided by United Way of the Blue Mountains
X-WR-RELCALID:90198d73e8405dbf5057fc68ed64bc69
X-WR-TIMEZONE:America/Los_Angeles
BEGIN:VTIMEZONE
TZID:America/Los_Angeles
BEGIN:STANDARD
TZNAME:PST
DTSTART:20251102T020000
TZOFFSETFROM:-0700
TZOFFSETTO:-0800
RDATE:20261101T020000
END:STANDARD
BEGIN:DAYLIGHT
TZNAME:PDT
DTSTART:20250309T020000
TZOFFSETFROM:-0800
TZOFFSETTO:-0700
RDATE:20260308T020000
RDATE:20270314T020000
END:DAYLIGHT
END:VTIMEZONE
BEGIN:VEVENT
UID:4f911443-b1a5-475c-bf93-5efb144da9fa
DTSTAMP:20260420T101525Z
DESCRIPTION:Connect & Play is for Parents/Caregivers (Connect) and children
  with disabilities & their siblings under 12 years old (Play).\n\nA hands-
 on\, interactive session for the whole family!\n\nFor Parents: Learn about
  Visual Supports and create your own communication boards to support every
 day routines.\n\nFor Kids: Engage in fun activities that tie directly to t
 he visual supports parents are making.\n\n1.) Match the Card to the Routin
 e Game – match picture cards to common routines like snack time or tidy up
 \n\n2.) Storytelling with Pictures – pick picture cards to tell a short st
 ory or act it out\n\n3.) MyPlate Snack Creation – use a visual plate to bu
 ild a balanced snack\n\nThis session is all about learning\, playing\, and
  connecting together while reinforcing skills in a fun\, hands-on way.\n\n
 (Registration deadline is the Sunday before the event)\n\nFunding for Conn
 ect & Play provided by United Way of the Blue Mountains
DTSTART;TZID=America/Los_Angeles:20260113T160000
DTEND;TZID=America/Los_Angeles:20260113T173000
LOCATION:Elopement Risk Level 1 - With Volunteers
SUMMARY:Connect & Play: Visual Supports
END:VEVENT
END:VCALENDAR
