BEGIN:VCALENDAR
VERSION:2.0
PRODID:-//www.wwvdn.org//NONSGML kigkonsult.se iCalcreator 2.30.10//
CALSCALE:GREGORIAN
METHOD:PUBLISH
UID:4098b481-b2f2-4538-a40e-804aa6b15172
X-WR-CALDESC:SOAR events are for individuals age 13 and older. Registration
  Deadline is Sunday\, January 4th at 6:00pm.\n\nJoin SOAR for a night out 
 at El Sombrero! Enjoy good food\, friendly conversation\, and the simple j
 oy of sharing a meal together. Please plan to bring a minimum of $25 to co
 ver your meal and drinks. This is a great opportunity to practice ordering
  in a more formal restaurant\, try new foods\, and connect with friends in
  a fun community setting.\n\nSOAR programming made possible by Connect2Eve
 ryone grant support from Greater Health Now.
X-WR-RELCALID:65dca80e53f4fabfe70ec781991f6b97
X-WR-TIMEZONE:America/Los_Angeles
BEGIN:VTIMEZONE
TZID:America/Los_Angeles
BEGIN:STANDARD
TZNAME:PST
DTSTART:20251102T020000
TZOFFSETFROM:-0700
TZOFFSETTO:-0800
RDATE:20261101T020000
END:STANDARD
BEGIN:DAYLIGHT
TZNAME:PDT
DTSTART:20250309T020000
TZOFFSETFROM:-0800
TZOFFSETTO:-0700
RDATE:20260308T020000
RDATE:20270314T020000
END:DAYLIGHT
END:VTIMEZONE
BEGIN:VEVENT
UID:40cf4554-f65f-4212-ae08-39eb316b6a8d
DTSTAMP:20260420T102047Z
DESCRIPTION:SOAR events are for individuals age 13 and older. Registration 
 Deadline is Sunday\, January 4th at 6:00pm.\n\nJoin SOAR for a night out a
 t El Sombrero! Enjoy good food\, friendly conversation\, and the simple jo
 y of sharing a meal together. Please plan to bring a minimum of $25 to cov
 er your meal and drinks. This is a great opportunity to practice ordering 
 in a more formal restaurant\, try new foods\, and connect with friends in 
 a fun community setting.\n\nSOAR programming made possible by Connect2Ever
 yone grant support from Greater Health Now.
DTSTART;TZID=America/Los_Angeles:20260114T170000
DTEND;TZID=America/Los_Angeles:20260114T190000
LOCATION:Elopement Risk Level 2 - Limited Volunteers
SUMMARY:SOAR Tacos & Togetherness (Dinner at El Sombrero)
END:VEVENT
END:VCALENDAR
