BEGIN:VCALENDAR
VERSION:2.0
PRODID:-//www.wwvdn.org//NONSGML kigkonsult.se iCalcreator 2.30.10//
CALSCALE:GREGORIAN
METHOD:PUBLISH
UID:08c71f10-3a0c-45f9-89ca-e76acbd98fdd
X-WR-CALDESC:Join us for friendship and good company. Bring your favorite d
 ish and enjoy a hearty potluck meal.
X-WR-RELCALID:4774c8cdde6c096321e3f66e6e462c2f
X-WR-TIMEZONE:America/Los_Angeles
BEGIN:VTIMEZONE
TZID:America/Los_Angeles
BEGIN:STANDARD
TZNAME:PST
DTSTART:20251102T020000
TZOFFSETFROM:-0700
TZOFFSETTO:-0800
RDATE:20261101T020000
END:STANDARD
BEGIN:DAYLIGHT
TZNAME:PDT
DTSTART:20250309T020000
TZOFFSETFROM:-0800
TZOFFSETTO:-0700
RDATE:20260308T020000
RDATE:20270314T020000
END:DAYLIGHT
END:VTIMEZONE
BEGIN:VEVENT
UID:745decdd-09f8-4ca3-9cfd-01fde1640aa0
DTSTAMP:20260420T102640Z
DESCRIPTION:Join us for friendship and good company. Bring your favorite di
 sh and enjoy a hearty potluck meal.
DTSTART;TZID=America/Los_Angeles:20260116T180000
DTEND;TZID=America/Los_Angeles:20260116T200000
LOCATION:Delaney Building\, 111 S 3rd St.\, Dayton\, WA 99328 US
SUMMARY:P2P Columbia County Potluck
END:VEVENT
END:VCALENDAR
