BEGIN:VCALENDAR
VERSION:2.0
PRODID:-//www.wwvdn.org//NONSGML kigkonsult.se iCalcreator 2.30.10//
CALSCALE:GREGORIAN
METHOD:PUBLISH
UID:4dd5f994-1705-4c3a-81e4-80a7fd03810c
X-WR-CALDESC:This training prepares parents with lived experience raising a
  child with special needs to support and guide new parents on their journe
 y. Builds confidence\, connection\, and meaningful peer support.
X-WR-RELCALID:a64d8cce4b4dc60eadabe0f0860d202f
X-WR-TIMEZONE:America/Los_Angeles
BEGIN:VTIMEZONE
TZID:America/Los_Angeles
BEGIN:STANDARD
TZNAME:PST
DTSTART:20251102T020000
TZOFFSETFROM:-0700
TZOFFSETTO:-0800
RDATE:20261101T020000
END:STANDARD
BEGIN:DAYLIGHT
TZNAME:PDT
DTSTART:20250309T020000
TZOFFSETFROM:-0800
TZOFFSETTO:-0700
RDATE:20260308T020000
RDATE:20270314T020000
END:DAYLIGHT
END:VTIMEZONE
BEGIN:VEVENT
UID:0feb879d-9aa8-4164-a197-fb7935a63d75
DTSTAMP:20260420T101835Z
DESCRIPTION:This training prepares parents with lived experience raising a 
 child with special needs to support and guide new parents on their journey
 . Builds confidence\, connection\, and meaningful peer support.
DTSTART;TZID=America/Los_Angeles:20260124T100000
DTEND;TZID=America/Los_Angeles:20260124T140000
LOCATION:Center for Children & Families\, 1150 W. Chestnut St.\, Walla Wall
 a\, WA 99362 US
SUMMARY:P2P Helping Parent Training
END:VEVENT
END:VCALENDAR
