BEGIN:VCALENDAR
VERSION:2.0
PRODID:-//www.wwvdn.org//NONSGML kigkonsult.se iCalcreator 2.30.10//
CALSCALE:GREGORIAN
METHOD:PUBLISH
UID:8d9bf7bb-4613-45a6-84a9-ff843b03419f
X-WR-CALDESC:RISE events are for children ages 8-12 with intellectual and d
 evelopmental disabilities\; no prior group experience necessary. Registrat
 ion for each event closes the Sunday before the event at 6:00 pm.\n\nRISE 
 is a play- and experience-based\, structured program where children explor
 e confidence\, friendships\, and early independence in a safe and supporti
 ve environment. Sessions run 90 minutes. Participation is encouraged\, not
  forced.\n\nBuild confidence and explore supported risk-taking at the clim
 bing wall. Small groups will rotate through climbing activities\, practice
  taking turns and encouraging peers\, and reflect on their experiences.\n
 \nImportant: All climbers must complete a liability waiver (minors require
  a parent/guardian signature). Complete in advance here: https://app.rockg
 ympro.com/tablet/whitman?deliverto=whitman – participants without signed w
 aivers cannot climb.\n\nSpace is limited\, so be sure to register early to
  secure your spot!
X-WR-RELCALID:e80316ce17f02d89c51d6e9d39f8d68f
X-WR-TIMEZONE:America/Los_Angeles
BEGIN:VTIMEZONE
TZID:America/Los_Angeles
BEGIN:STANDARD
TZNAME:PST
DTSTART:20251102T020000
TZOFFSETFROM:-0700
TZOFFSETTO:-0800
RDATE:20261101T020000
END:STANDARD
BEGIN:DAYLIGHT
TZNAME:PDT
DTSTART:20250309T020000
TZOFFSETFROM:-0800
TZOFFSETTO:-0700
RDATE:20260308T020000
RDATE:20270314T020000
END:DAYLIGHT
END:VTIMEZONE
BEGIN:VEVENT
UID:44ae88f1-17fc-47e9-a53b-0f1af9be06b8
DTSTAMP:20260420T101619Z
DESCRIPTION:RISE events are for children ages 8-12 with intellectual and de
 velopmental disabilities\; no prior group experience necessary. Registrati
 on for each event closes the Sunday before the event at 6:00 pm.\n\nRISE i
 s a play- and experience-based\, structured program where children explore
  confidence\, friendships\, and early independence in a safe and supportiv
 e environment. Sessions run 90 minutes. Participation is encouraged\, not 
 forced.\n\nBuild confidence and explore supported risk-taking at the climb
 ing wall. Small groups will rotate through climbing activities\, practice 
 taking turns and encouraging peers\, and reflect on their experiences.\n\n
 Important: All climbers must complete a liability waiver (minors require a
  parent/guardian signature). Complete in advance here: https://app.rockgym
 pro.com/tablet/whitman?deliverto=whitman – participants without signed wai
 vers cannot climb.\n\nSpace is limited\, so be sure to register early to s
 ecure your spot!
DTSTART;TZID=America/Los_Angeles:20260124T123000
DTEND;TZID=America/Los_Angeles:20260124T133000
LOCATION:Elopement Risk Level 2 - Limited Volunteers
SUMMARY:RISE Community Climb Adventure
END:VEVENT
END:VCALENDAR
