BEGIN:VCALENDAR
VERSION:2.0
PRODID:-//www.wwvdn.org//NONSGML kigkonsult.se iCalcreator 2.30.10//
CALSCALE:GREGORIAN
METHOD:PUBLISH
UID:7e1911cb-c926-4e36-b42a-f32857855a24
X-WR-CALDESC:LIFT events are for children ages 5-8 with intellectual and de
 velopmental disabilities\; no prior group experience necessary. Registrati
 on for each event closes the Sunday before the event at 6:00 pm.\n\nLIFT i
 s a play-based\, structured program where children explore creativity\, so
 cial skills\, and movement in a safe and joyful environment. Sessions run 
 90 minutes. Participation is encouraged\, not forced.\n\nThis session focu
 ses on emotional awareness\, safety\, and self-regulation. Participants wi
 ll explore feelings using emotion cards\, mirrors\, and hands-on materials
  while learning to recognize emotions in themselves and others. Children w
 ill engage in act-it-out movement activities (happy jumps\, tired stretche
 s\, stomping\, and wiggling)\, create a Little SPOT emotion keychain throu
 gh tactile art\, and practice calming strategies using stress balls\, glit
 ter jars\, and weighted tools. Guided songs\, choice-based play\, and refl
 ection during snack time support social-emotional learning in a fun\, deve
 lopmentally appropriate way.\n
X-WR-RELCALID:bb0bf21976461249c6b71e6d91917769
X-WR-TIMEZONE:America/Los_Angeles
BEGIN:VTIMEZONE
TZID:America/Los_Angeles
BEGIN:STANDARD
TZNAME:PST
DTSTART:20251102T020000
TZOFFSETFROM:-0700
TZOFFSETTO:-0800
RDATE:20261101T020000
END:STANDARD
BEGIN:DAYLIGHT
TZNAME:PDT
DTSTART:20250309T020000
TZOFFSETFROM:-0800
TZOFFSETTO:-0700
RDATE:20260308T020000
RDATE:20270314T020000
END:DAYLIGHT
END:VTIMEZONE
BEGIN:VEVENT
UID:5010b7ff-4559-4e79-bc12-3a425f9778d1
DTSTAMP:20260420T101403Z
DESCRIPTION:LIFT events are for children ages 5-8 with intellectual and dev
 elopmental disabilities\; no prior group experience necessary. Registratio
 n for each event closes the Sunday before the event at 6:00 pm.\n\nLIFT is
  a play-based\, structured program where children explore creativity\, soc
 ial skills\, and movement in a safe and joyful environment. Sessions run 9
 0 minutes. Participation is encouraged\, not forced.\n\nThis session focus
 es on emotional awareness\, safety\, and self-regulation. Participants wil
 l explore feelings using emotion cards\, mirrors\, and hands-on materials 
 while learning to recognize emotions in themselves and others. Children wi
 ll engage in act-it-out movement activities (happy jumps\, tired stretches
 \, stomping\, and wiggling)\, create a Little SPOT emotion keychain throug
 h tactile art\, and practice calming strategies using stress balls\, glitt
 er jars\, and weighted tools. Guided songs\, choice-based play\, and refle
 ction during snack time support social-emotional learning in a fun\, devel
 opmentally appropriate way.\n
DTSTART;TZID=America/Los_Angeles:20260126T153000
DTEND;TZID=America/Los_Angeles:20260126T170000
LOCATION:Elopement Risk Level 1 - With Volunteers
SUMMARY:LIFT Feelings and Faces
END:VEVENT
END:VCALENDAR
