BEGIN:VCALENDAR
VERSION:2.0
PRODID:-//www.wwvdn.org//NONSGML kigkonsult.se iCalcreator 2.30.10//
CALSCALE:GREGORIAN
METHOD:PUBLISH
UID:68f6299d-0466-414b-a5bb-6114bf647319
X-WR-CALDESC:Esta Presentación es en Español\n\nÚnase desde casa o venga a 
 la oficina de WWVDN y mire con nosotros.\n\nÚnase a nuestra presentación v
 irtual sobre como construir y mantener relaciones saludables\, este evento
  esta dirigido a padres y cuidadores que crían niños con necesidades espec
 iales.\n\nPresentadora: Sandra Urite
X-WR-RELCALID:66dce85c3dde69b78fc343ba713f3c03
X-WR-TIMEZONE:America/Los_Angeles
BEGIN:VTIMEZONE
TZID:America/Los_Angeles
BEGIN:STANDARD
TZNAME:PST
DTSTART:20251102T020000
TZOFFSETFROM:-0700
TZOFFSETTO:-0800
RDATE:20261101T020000
END:STANDARD
BEGIN:DAYLIGHT
TZNAME:PDT
DTSTART:20250309T020000
TZOFFSETFROM:-0800
TZOFFSETTO:-0700
RDATE:20260308T020000
RDATE:20270314T020000
END:DAYLIGHT
END:VTIMEZONE
BEGIN:VEVENT
UID:2a9c0174-fcbb-440b-9392-6250de1a1c02
DTSTAMP:20260420T103219Z
DESCRIPTION:Esta Presentación es en Español\n\nÚnase desde casa o venga a l
 a oficina de WWVDN y mire con nosotros.\n\nÚnase a nuestra presentación vi
 rtual sobre como construir y mantener relaciones saludables\, este evento 
 esta dirigido a padres y cuidadores que crían niños con necesidades especi
 ales.\n\nPresentadora: Sandra Urite
DTSTART;TZID=America/Los_Angeles:20260129T173000
DTEND;TZID=America/Los_Angeles:20260129T193000
LOCATION:Center for Children & Families\, 1150 W. Chestnut St.\, Walla Wall
 a\, WA 99362 US
SUMMARY:P2P: RELACIONES SALUDABLES
END:VEVENT
END:VCALENDAR
