BEGIN:VCALENDAR
VERSION:2.0
PRODID:-//www.wwvdn.org//NONSGML kigkonsult.se iCalcreator 2.30.10//
CALSCALE:GREGORIAN
METHOD:PUBLISH
UID:46422b5e-0ea1-4ffd-8e2e-e2dced9d26c5
X-WR-CALDESC:RISE events are for children ages 8-12 with intellectual and d
 evelopmental disabilities\; no prior group experience necessary. Registrat
 ion for each event closes the Sunday before the event at 6:00 pm.\n\nRISE 
 is a play- and experience-based\, structured program where children explor
 e confidence\, friendships\, and early independence in a safe and supporti
 ve environment. Sessions run 90 minutes. Participation is encouraged\, not
  forced.\n\nThis session focuses on recognizing emotions\, building empath
 y\, and strengthening social skills in a hands-on and engaging way. Partic
 ipants will explore feelings through sensory play\, read-alouds\, and conv
 ersation cards\, practice expressing emotions using the Rolling for Feelin
 gs dice game\, and build faces on flannel boards to discuss coping strateg
 ies and friendship. Children will create bracelets as visual\, take-home r
 eminders of feelings\, friendships\, or ways to respond to emotions. Guide
 d movement\, sensory exploration\, and reflection activities support self-
 regulation\, turn-taking\, and positive social interactions.
X-WR-RELCALID:106bd9459a718532be59daf04788015d
X-WR-TIMEZONE:America/Los_Angeles
BEGIN:VTIMEZONE
TZID:America/Los_Angeles
BEGIN:STANDARD
TZNAME:PST
DTSTART:20251102T020000
TZOFFSETFROM:-0700
TZOFFSETTO:-0800
RDATE:20261101T020000
END:STANDARD
BEGIN:DAYLIGHT
TZNAME:PDT
DTSTART:20250309T020000
TZOFFSETFROM:-0800
TZOFFSETTO:-0700
RDATE:20260308T020000
RDATE:20270314T020000
END:DAYLIGHT
END:VTIMEZONE
BEGIN:VEVENT
UID:280ffc86-d164-4aaa-8876-689f95c95f14
DTSTAMP:20260420T121240Z
DESCRIPTION:RISE events are for children ages 8-12 with intellectual and de
 velopmental disabilities\; no prior group experience necessary. Registrati
 on for each event closes the Sunday before the event at 6:00 pm.\n\nRISE i
 s a play- and experience-based\, structured program where children explore
  confidence\, friendships\, and early independence in a safe and supportiv
 e environment. Sessions run 90 minutes. Participation is encouraged\, not 
 forced.\n\nThis session focuses on recognizing emotions\, building empathy
 \, and strengthening social skills in a hands-on and engaging way. Partici
 pants will explore feelings through sensory play\, read-alouds\, and conve
 rsation cards\, practice expressing emotions using the Rolling for Feeling
 s dice game\, and build faces on flannel boards to discuss coping strategi
 es and friendship. Children will create bracelets as visual\, take-home re
 minders of feelings\, friendships\, or ways to respond to emotions. Guided
  movement\, sensory exploration\, and reflection activities support self-r
 egulation\, turn-taking\, and positive social interactions.
DTSTART;TZID=America/Los_Angeles:20260202T153000
DTEND;TZID=America/Los_Angeles:20260202T170000
LOCATION:Elopement Risk Level 1 - With Volunteers
SUMMARY:RISE Feelings & Friendships
END:VEVENT
END:VCALENDAR
