BEGIN:VCALENDAR
VERSION:2.0
PRODID:-//www.wwvdn.org//NONSGML kigkonsult.se iCalcreator 2.30.10//
CALSCALE:GREGORIAN
METHOD:PUBLISH
UID:db97c910-494b-4c8d-baa2-1775d16a9a6f
X-WR-CALDESC:(For ages 18 or older)\n\nThis session invites participants to
  enjoy a fun and inclusive evening of decorating cupcakes and creating Val
 entine’s Day cards alongside peers and buddies. Through hands-on crafting 
 and shared activities\, participants will practice social connection\, tur
 n-taking\, and cooperative play in a welcoming environment. The focus is o
 n building friendships\, encouraging creativity\, and celebrating kindness
  in a relaxed\, supportive setting.
X-WR-RELCALID:ec088068ed95d914e8449675b2edfbb9
X-WR-TIMEZONE:America/Los_Angeles
BEGIN:VTIMEZONE
TZID:America/Los_Angeles
BEGIN:STANDARD
TZNAME:PST
DTSTART:20251102T020000
TZOFFSETFROM:-0700
TZOFFSETTO:-0800
RDATE:20261101T020000
END:STANDARD
BEGIN:DAYLIGHT
TZNAME:PDT
DTSTART:20250309T020000
TZOFFSETFROM:-0800
TZOFFSETTO:-0700
RDATE:20260308T020000
RDATE:20270314T020000
END:DAYLIGHT
END:VTIMEZONE
BEGIN:VEVENT
UID:125955cb-aadf-471c-aebc-71169234051e
DTSTAMP:20260420T120951Z
DESCRIPTION:(For ages 18 or older)\n\nThis session invites participants to 
 enjoy a fun and inclusive evening of decorating cupcakes and creating Vale
 ntine’s Day cards alongside peers and buddies. Through hands-on crafting a
 nd shared activities\, participants will practice social connection\, turn
 -taking\, and cooperative play in a welcoming environment. The focus is on
  building friendships\, encouraging creativity\, and celebrating kindness 
 in a relaxed\, supportive setting.
DTSTART;TZID=America/Los_Angeles:20260203T173000
DTEND;TZID=America/Los_Angeles:20260203T183000
LOCATION:Elopement Risk Level 1 - With Volunteers
SUMMARY:Whitman Buddy Program: Buddy Valentines Crafts
END:VEVENT
END:VCALENDAR
