BEGIN:VCALENDAR
VERSION:2.0
PRODID:-//www.wwvdn.org//NONSGML kigkonsult.se iCalcreator 2.30.10//
CALSCALE:GREGORIAN
METHOD:PUBLISH
UID:a3ef307a-c2db-41b8-b794-5a94cf2eda46
X-WR-CALDESC:SOAR events are for individuals age 13 and older. Registration
  for each event closes the Sunday before the event at 6:00 pm. \n\nThis se
 ssion focuses on online safety\, digital privacy\, and thoughtful social m
 edia use in a hands-on\, engaging way. Participants will explore what is s
 afe to share versus keep private through interactive games like Would You 
 Post This? and an Influencer for a Night experience\, where they practice 
 creating safe captions\, evaluating posts\, and reflecting on digital boun
 daries. Social interaction\, peer discussion\, and fun activities support 
 turn-taking\, decision-making\, and confidence in managing their online pr
 esence.\n\nDetails:\n- Social media lounge with conversation prompts\n- In
 teractive games and challenges about safe posting\n- Influencer for a Nigh
 t activity to practice safe online choices\n- Build-Your-Own Pasta Bowls a
 nd hangout time\n\nSOAR programming made possible by Connect2Everyone gran
 t support from Greater Health Now.
X-WR-RELCALID:93bd4466f0f206aba706c893ccc277eb
X-WR-TIMEZONE:America/Los_Angeles
BEGIN:VTIMEZONE
TZID:America/Los_Angeles
BEGIN:STANDARD
TZNAME:PST
DTSTART:20251102T020000
TZOFFSETFROM:-0700
TZOFFSETTO:-0800
RDATE:20261101T020000
END:STANDARD
BEGIN:DAYLIGHT
TZNAME:PDT
DTSTART:20250309T020000
TZOFFSETFROM:-0800
TZOFFSETTO:-0700
RDATE:20260308T020000
RDATE:20270314T020000
END:DAYLIGHT
END:VTIMEZONE
BEGIN:VEVENT
UID:7431f349-81eb-4212-aa9b-a88ed1c85508
DTSTAMP:20260420T120846Z
DESCRIPTION:SOAR events are for individuals age 13 and older. Registration 
 for each event closes the Sunday before the event at 6:00 pm. \n\nThis ses
 sion focuses on online safety\, digital privacy\, and thoughtful social me
 dia use in a hands-on\, engaging way. Participants will explore what is sa
 fe to share versus keep private through interactive games like Would You P
 ost This? and an Influencer for a Night experience\, where they practice c
 reating safe captions\, evaluating posts\, and reflecting on digital bound
 aries. Social interaction\, peer discussion\, and fun activities support t
 urn-taking\, decision-making\, and confidence in managing their online pre
 sence.\n\nDetails:\n- Social media lounge with conversation prompts\n- Int
 eractive games and challenges about safe posting\n- Influencer for a Night
  activity to practice safe online choices\n- Build-Your-Own Pasta Bowls an
 d hangout time\n\nSOAR programming made possible by Connect2Everyone grant
  support from Greater Health Now.
DTSTART;TZID=America/Los_Angeles:20260205T170000
DTEND;TZID=America/Los_Angeles:20260205T190000
LOCATION:Elopement Risk Level 1 - With Volunteers
SUMMARY:SOAR Posted: a Social Media Night
END:VEVENT
END:VCALENDAR
