BEGIN:VCALENDAR
VERSION:2.0
PRODID:-//www.wwvdn.org//NONSGML kigkonsult.se iCalcreator 2.30.10//
CALSCALE:GREGORIAN
METHOD:PUBLISH
UID:e5739353-c624-4c76-865d-9f13f186330f
X-WR-CALDESC:LIFT events are for children ages 5-8 with intellectual and de
 velopmental disabilities\; no prior group experience necessary. Registrati
 on for each event closes the Sunday before the event at 6:00 pm.\n\nLIFT i
 s a play-based\, structured program where children explore creativity\, so
 cial skills\, and movement in a safe and joyful environment. Sessions run 
 90 minutes. Participation is encouraged\, not forced.\n\nThis session focu
 ses on personal safety\, personal space\, and consent in a developmentally
  appropriate and engaging way. Participants will explore the idea of perso
 nal space using hula hoop “personal space bubbles\,” practice stop/go/wait
  cues through movement games\, and learn simple boundary language such as 
 “No thank you” and “My turn.” Children will create a My Personal Bubble or
 nament as a visual\, take-home reminder that everyone has their own space.
  Guided movement\, sensory exploration\, and calm-down activities support 
 self-regulation while reinforcing respectful boundaries during play and so
 cial interactions.
X-WR-RELCALID:34812b810dd5eb26f3dbfc88b194603d
X-WR-TIMEZONE:America/Los_Angeles
BEGIN:VTIMEZONE
TZID:America/Los_Angeles
BEGIN:STANDARD
TZNAME:PST
DTSTART:20251102T020000
TZOFFSETFROM:-0700
TZOFFSETTO:-0800
RDATE:20261101T020000
END:STANDARD
BEGIN:DAYLIGHT
TZNAME:PDT
DTSTART:20250309T020000
TZOFFSETFROM:-0800
TZOFFSETTO:-0700
RDATE:20260308T020000
RDATE:20270314T020000
END:DAYLIGHT
END:VTIMEZONE
BEGIN:VEVENT
UID:0201c289-f084-4d4d-900b-a7e3de9e259d
DTSTAMP:20260420T120730Z
DESCRIPTION:LIFT events are for children ages 5-8 with intellectual and dev
 elopmental disabilities\; no prior group experience necessary. Registratio
 n for each event closes the Sunday before the event at 6:00 pm.\n\nLIFT is
  a play-based\, structured program where children explore creativity\, soc
 ial skills\, and movement in a safe and joyful environment. Sessions run 9
 0 minutes. Participation is encouraged\, not forced.\n\nThis session focus
 es on personal safety\, personal space\, and consent in a developmentally 
 appropriate and engaging way. Participants will explore the idea of person
 al space using hula hoop “personal space bubbles\,” practice stop/go/wait 
 cues through movement games\, and learn simple boundary language such as “
 No thank you” and “My turn.” Children will create a My Personal Bubble orn
 ament as a visual\, take-home reminder that everyone has their own space. 
 Guided movement\, sensory exploration\, and calm-down activities support s
 elf-regulation while reinforcing respectful boundaries during play and soc
 ial interactions.
DTSTART;TZID=America/Los_Angeles:20260209T153000
DTEND;TZID=America/Los_Angeles:20260209T170000
LOCATION:Elopement Risk Level 1 - With Volunteers
SUMMARY:LIFT My Body & Boundaries
END:VEVENT
END:VCALENDAR
