BEGIN:VCALENDAR
VERSION:2.0
PRODID:-//www.wwvdn.org//NONSGML kigkonsult.se iCalcreator 2.30.10//
CALSCALE:GREGORIAN
METHOD:PUBLISH
UID:12fdc7ba-1e14-4480-be68-36ad4c59db5f
X-WR-CALDESC:The Walla Walla Police Department will share practical tips to
  help caregivers keep individuals safe online. Learn about common scams\, 
 social media safety\, and when to report concerns.
X-WR-RELCALID:7570d09da37e17b854429686e1a0cddb
X-WR-TIMEZONE:America/Los_Angeles
BEGIN:VTIMEZONE
TZID:America/Los_Angeles
BEGIN:STANDARD
TZNAME:PST
DTSTART:20251102T020000
TZOFFSETFROM:-0700
TZOFFSETTO:-0800
RDATE:20261101T020000
END:STANDARD
BEGIN:DAYLIGHT
TZNAME:PDT
DTSTART:20250309T020000
TZOFFSETFROM:-0800
TZOFFSETTO:-0700
RDATE:20260308T020000
RDATE:20270314T020000
END:DAYLIGHT
END:VTIMEZONE
BEGIN:VEVENT
UID:8dc83583-9ef0-4b6f-85f8-4b683e0907ea
DTSTAMP:20260420T121337Z
DESCRIPTION:The Walla Walla Police Department will share practical tips to 
 help caregivers keep individuals safe online. Learn about common scams\, s
 ocial media safety\, and when to report concerns.
DTSTART;TZID=America/Los_Angeles:20260210T173000
DTEND;TZID=America/Los_Angeles:20260210T190000
LOCATION:Center for Children & Families - Library\, 1150 W. Chestnut St.\, 
 Walla Walla\, WA 99362 US
SUMMARY:P2P Internet Safety Workshop
END:VEVENT
END:VCALENDAR
