BEGIN:VCALENDAR
VERSION:2.0
PRODID:-//www.wwvdn.org//NONSGML kigkonsult.se iCalcreator 2.30.10//
CALSCALE:GREGORIAN
METHOD:PUBLISH
UID:144c32eb-67d6-4152-a177-4bb97014f052
X-WR-CALDESC:SOAR events are for individuals age 13 and older. Registration
  for each event closes the Sunday before the event at 6:00 pm. \n\nThis se
 ssion focuses on helping participants spot scams\, fake messages\, and mis
 leading online content through an interactive\, mystery-themed experience.
  Participants will work in detective teams to solve a digital scam escape 
 room\, identify red flags in texts\, emails\, and ads\, and practice safe 
 responses such as stopping\, checking\, and asking for help. Group challen
 ges\, role-play scenarios\, and guided discussion build confidence in reco
 gnizing misinformation and making safe online choices.\n\nDetails:\n- Dete
 ctive-themed arrival and team check-in\n- Scam or Safe? group game with re
 alistic examples\n- Full digital scam escape room experience\n- Nacho Nigh
 t\n- Practice scripts for responding to suspicious messages\n\nSOAR progra
 mming made possible by Connect2Everyone grant support from Greater Health 
 Now.
X-WR-RELCALID:5a7bc972e9734670fb1bcb937d0c3dce
X-WR-TIMEZONE:America/Los_Angeles
BEGIN:VTIMEZONE
TZID:America/Los_Angeles
BEGIN:STANDARD
TZNAME:PST
DTSTART:20251102T020000
TZOFFSETFROM:-0700
TZOFFSETTO:-0800
RDATE:20261101T020000
END:STANDARD
BEGIN:DAYLIGHT
TZNAME:PDT
DTSTART:20250309T020000
TZOFFSETFROM:-0800
TZOFFSETTO:-0700
RDATE:20260308T020000
RDATE:20270314T020000
END:DAYLIGHT
END:VTIMEZONE
BEGIN:VEVENT
UID:58642129-89bf-4c79-9152-d7009b9485a4
DTSTAMP:20260420T120730Z
DESCRIPTION:SOAR events are for individuals age 13 and older. Registration 
 for each event closes the Sunday before the event at 6:00 pm. \n\nThis ses
 sion focuses on helping participants spot scams\, fake messages\, and misl
 eading online content through an interactive\, mystery-themed experience. 
 Participants will work in detective teams to solve a digital scam escape r
 oom\, identify red flags in texts\, emails\, and ads\, and practice safe r
 esponses such as stopping\, checking\, and asking for help. Group challeng
 es\, role-play scenarios\, and guided discussion build confidence in recog
 nizing misinformation and making safe online choices.\n\nDetails:\n- Detec
 tive-themed arrival and team check-in\n- Scam or Safe? group game with rea
 listic examples\n- Full digital scam escape room experience\n- Nacho Night
 \n- Practice scripts for responding to suspicious messages\n\nSOAR program
 ming made possible by Connect2Everyone grant support from Greater Health N
 ow.
DTSTART;TZID=America/Los_Angeles:20260210T173000
DTEND;TZID=America/Los_Angeles:20260210T193000
LOCATION:Elopement Risk Level 1 - With Volunteers
SUMMARY:SOAR Scam Squad: a Digital Detective & Escape Room Night
END:VEVENT
END:VCALENDAR
