BEGIN:VCALENDAR
VERSION:2.0
PRODID:-//www.wwvdn.org//NONSGML kigkonsult.se iCalcreator 2.30.10//
CALSCALE:GREGORIAN
METHOD:PUBLISH
UID:4af38bf0-5c07-4256-9aad-5ceb5eae9fb7
X-WR-CALDESC:Connect & Play is for Parents/Caregivers (Connect) and childre
 n with disabilities & their siblings under 12 years old (Play).\n\nA hands
 -on\, interactive session for the whole family!\n\nFor Parents: Learn stra
 tegies to manage burnout and practice self-care. \n\nFor Kids: Engage in f
 un activities that teach practical self-care and emotional regulation...\n
 \n- Brush\, Wash\, Tie! – practice brushing teeth\, washing hands\, and ty
 ing shoes through fun games and role play\n- Calm Down Corner – explore ca
 lming strategies with sensory play\, bubble breathing\, and stress-relief 
 toys\n- Self-Care Role Play – act out everyday routines and learn how to r
 ecognize and manage feelings\n\nThis session is all about learning\, playi
 ng\, and connecting together while reinforcing self-care skills in a fun\,
  hands-on way.\n\n(Registration deadline is the Sunday before the event)\n
 \nFunding for Connect & Play provided by United Way of the Blue Mountains
X-WR-RELCALID:b9a268d387916d2d2682c3b153e4f6b5
X-WR-TIMEZONE:America/Los_Angeles
BEGIN:VTIMEZONE
TZID:America/Los_Angeles
BEGIN:STANDARD
TZNAME:PST
DTSTART:20251102T020000
TZOFFSETFROM:-0700
TZOFFSETTO:-0800
RDATE:20261101T020000
END:STANDARD
BEGIN:DAYLIGHT
TZNAME:PDT
DTSTART:20250309T020000
TZOFFSETFROM:-0800
TZOFFSETTO:-0700
RDATE:20260308T020000
RDATE:20270314T020000
END:DAYLIGHT
END:VTIMEZONE
BEGIN:VEVENT
UID:03cfc0f7-ef01-4c87-9c9f-30af01335f4f
DTSTAMP:20260420T120556Z
DESCRIPTION:Connect & Play is for Parents/Caregivers (Connect) and children
  with disabilities & their siblings under 12 years old (Play).\n\nA hands-
 on\, interactive session for the whole family!\n\nFor Parents: Learn strat
 egies to manage burnout and practice self-care. \n\nFor Kids: Engage in fu
 n activities that teach practical self-care and emotional regulation...\n
 \n- Brush\, Wash\, Tie! – practice brushing teeth\, washing hands\, and ty
 ing shoes through fun games and role play\n- Calm Down Corner – explore ca
 lming strategies with sensory play\, bubble breathing\, and stress-relief 
 toys\n- Self-Care Role Play – act out everyday routines and learn how to r
 ecognize and manage feelings\n\nThis session is all about learning\, playi
 ng\, and connecting together while reinforcing self-care skills in a fun\,
  hands-on way.\n\n(Registration deadline is the Sunday before the event)\n
 \nFunding for Connect & Play provided by United Way of the Blue Mountains
DTSTART;TZID=America/Los_Angeles:20260217T160000
DTEND;TZID=America/Los_Angeles:20260217T173000
LOCATION:Elopement Risk Level 1 - With Volunteers
SUMMARY:Connect & Play: Self-Care Superstars
END:VEVENT
END:VCALENDAR
