BEGIN:VCALENDAR
VERSION:2.0
PRODID:-//www.wwvdn.org//NONSGML kigkonsult.se iCalcreator 2.30.10//
CALSCALE:GREGORIAN
METHOD:PUBLISH
UID:84f85eee-7d22-45f8-9b0b-e81609416c8a
X-WR-CALDESC:Join us for friendship and good company. Bring your favorite d
 ish and enjoy a hearty potluck meal.
X-WR-RELCALID:faf0046d881e8dd4879814e76912403e
X-WR-TIMEZONE:America/Los_Angeles
BEGIN:VTIMEZONE
TZID:America/Los_Angeles
BEGIN:STANDARD
TZNAME:PST
DTSTART:20251102T020000
TZOFFSETFROM:-0700
TZOFFSETTO:-0800
RDATE:20261101T020000
END:STANDARD
BEGIN:DAYLIGHT
TZNAME:PDT
DTSTART:20250309T020000
TZOFFSETFROM:-0800
TZOFFSETTO:-0700
RDATE:20260308T020000
RDATE:20270314T020000
END:DAYLIGHT
END:VTIMEZONE
BEGIN:VEVENT
UID:c4aa3b78-f159-4aa9-b295-7df540f7b0f3
DTSTAMP:20260420T120255Z
DESCRIPTION:Join us for friendship and good company. Bring your favorite di
 sh and enjoy a hearty potluck meal.
DTSTART;TZID=America/Los_Angeles:20260220T180000
DTEND;TZID=America/Los_Angeles:20260220T193000
LOCATION:Delaney Building\, 111 S 3rd St.\, Dayton\, WA 99328 US
SUMMARY:P2P Columbia County Potluck
END:VEVENT
END:VCALENDAR
