BEGIN:VCALENDAR
VERSION:2.0
PRODID:-//www.wwvdn.org//NONSGML kigkonsult.se iCalcreator 2.30.10//
CALSCALE:GREGORIAN
METHOD:PUBLISH
UID:12d4b6d5-4253-4d89-8b14-c9a26bca8504
X-WR-CALDESC:SOAR events are for individuals age 13 and older. Registration
  for each event closes the Sunday before the event at 6:00 pm.\n\nThis ses
 sion focuses on building strong online safety habits that protect both per
 sonal accounts and digital interactions. Participants will engage in hands
 -on code-breaking games and team challenges to learn how strong passwords 
 and layered security help keep accounts safe. The second half of the sessi
 on emphasizes respectful online behavior\, as participants practice respon
 ding to unkind comments\, setting boundaries\, and supporting others in di
 gital spaces. Interactive activities\, discussion\, and reflection promote
  confidence\, responsibility\, and kindness while navigating the online wo
 rld.\n\nDetails:\n- Code-breaking and password-building challenges\n- Acco
 unt protection activities using layered security concepts\n- Group activit
 ies focused on kind and respectful online communication\n- Sandwich Bar\n
 \nSOAR programming made possible by Connect2Everyone grant support from Gr
 eater Health Now.
X-WR-RELCALID:11a9c6fa44c373b30b6bab66ebf62ad8
X-WR-TIMEZONE:America/Los_Angeles
BEGIN:VTIMEZONE
TZID:America/Los_Angeles
BEGIN:STANDARD
TZNAME:PST
DTSTART:20251102T020000
TZOFFSETFROM:-0700
TZOFFSETTO:-0800
RDATE:20261101T020000
END:STANDARD
BEGIN:DAYLIGHT
TZNAME:PDT
DTSTART:20250309T020000
TZOFFSETFROM:-0800
TZOFFSETTO:-0700
RDATE:20260308T020000
RDATE:20270314T020000
END:DAYLIGHT
END:VTIMEZONE
BEGIN:VEVENT
UID:351bf697-4167-4b98-9a4f-6d7b08e0a86f
DTSTAMP:20260420T121228Z
DESCRIPTION:SOAR events are for individuals age 13 and older. Registration 
 for each event closes the Sunday before the event at 6:00 pm.\n\nThis sess
 ion focuses on building strong online safety habits that protect both pers
 onal accounts and digital interactions. Participants will engage in hands-
 on code-breaking games and team challenges to learn how strong passwords a
 nd layered security help keep accounts safe. The second half of the sessio
 n emphasizes respectful online behavior\, as participants practice respond
 ing to unkind comments\, setting boundaries\, and supporting others in dig
 ital spaces. Interactive activities\, discussion\, and reflection promote 
 confidence\, responsibility\, and kindness while navigating the online wor
 ld.\n\nDetails:\n- Code-breaking and password-building challenges\n- Accou
 nt protection activities using layered security concepts\n- Group activiti
 es focused on kind and respectful online communication\n- Sandwich Bar\n\n
 SOAR programming made possible by Connect2Everyone grant support from Grea
 ter Health Now.
DTSTART;TZID=America/Los_Angeles:20260220T170000
DTEND;TZID=America/Los_Angeles:20260220T190000
LOCATION:Elopement Risk Level 1 - With Volunteers
SUMMARY:SOAR Strong & Kind: Code Smart\, Speak Smart
END:VEVENT
END:VCALENDAR
