BEGIN:VCALENDAR
VERSION:2.0
PRODID:-//www.wwvdn.org//NONSGML kigkonsult.se iCalcreator 2.30.10//
CALSCALE:GREGORIAN
METHOD:PUBLISH
UID:123ef4c3-2837-45f6-85eb-f681a3361e70
X-WR-CALDESC:A fun time to Bowl and connect with friends and family.\n\nCom
 e to one or all! Since we only have four lanes available and a maximum of 
 25 people playing\, please specify during registration which members of yo
 ur group will be bowling.\n\nShoe rental is $3.00 and $4.50 per game per p
 erson to bowl.
X-WR-RELCALID:590ea9bcbd1616b5c35234cbbb81742d
X-WR-TIMEZONE:America/Los_Angeles
BEGIN:VTIMEZONE
TZID:America/Los_Angeles
BEGIN:STANDARD
TZNAME:PST
DTSTART:20251102T020000
TZOFFSETFROM:-0700
TZOFFSETTO:-0800
RDATE:20261101T020000
END:STANDARD
BEGIN:DAYLIGHT
TZNAME:PDT
DTSTART:20250309T020000
TZOFFSETFROM:-0800
TZOFFSETTO:-0700
RDATE:20260308T020000
RDATE:20270314T020000
END:DAYLIGHT
END:VTIMEZONE
BEGIN:VEVENT
UID:2ccd0dd2-0199-4cba-9292-efadc792bea4
DTSTAMP:20260420T121049Z
DESCRIPTION:A fun time to Bowl and connect with friends and family.\n\nCome
  to one or all! Since we only have four lanes available and a maximum of 2
 5 people playing\, please specify during registration which members of you
 r group will be bowling.\n\nShoe rental is $3.00 and $4.50 per game per pe
 rson to bowl.
DTSTART;TZID=America/Los_Angeles:20260221T120000
DTEND;TZID=America/Los_Angeles:20260221T140000
LOCATION:Bowlaway Lanes\, 411 Ash st. \, Walla Walla\, WA 99362 US
SUMMARY:P2P Family Bowling (Week 3)
END:VEVENT
END:VCALENDAR
