BEGIN:VCALENDAR
VERSION:2.0
PRODID:-//www.wwvdn.org//NONSGML kigkonsult.se iCalcreator 2.30.10//
CALSCALE:GREGORIAN
METHOD:PUBLISH
UID:24ceae63-6515-4f0e-b38c-36535789bdd3
X-WR-CALDESC:SOAR events are for individuals age 13 and older. Registration
  for each event closes the Sunday before the event at 6:00 pm.\n\nThis cel
 ebration-style session focuses on helping participants build confidence in
  asking for help when something online feels wrong. Using a Pokémon Traine
 r theme in honor of National Pokémon Day\, participants will explore real-
 life digital situations such as unsafe messages\, scary content\, and pres
 sure to share personal information. Through interactive games\, role-play\
 , and guided discussion\, participants will practice the STOP • BLOCK • TE
 LL strategy and identify trusted helpers. The night concludes with Pokémon
 -themed free-choice activities and a positive group celebration.\n\nDetail
 s:\n- Pokémon Trainer sign-in and themed arrival\n- Interactive lesson on 
 being brave and asking for help\n- Pokémon-themed challenges and group gam
 es\n- Free-choice Pokémon games\, cards\, and activities\n- Trainer celebr
 ation and take-home reminders\n- Pizza\n\nSOAR programming made possible b
 y Connect2Everyone grant support from Greater Health Now.
X-WR-RELCALID:4794d7336a4e64b0ba6f2e747abd68d9
X-WR-TIMEZONE:America/Los_Angeles
BEGIN:VTIMEZONE
TZID:America/Los_Angeles
BEGIN:STANDARD
TZNAME:PST
DTSTART:20251102T020000
TZOFFSETFROM:-0700
TZOFFSETTO:-0800
RDATE:20261101T020000
END:STANDARD
BEGIN:DAYLIGHT
TZNAME:PDT
DTSTART:20250309T020000
TZOFFSETFROM:-0800
TZOFFSETTO:-0700
RDATE:20260308T020000
RDATE:20270314T020000
END:DAYLIGHT
END:VTIMEZONE
BEGIN:VEVENT
UID:79597312-09b9-4e8a-afac-12c1d19f0762
DTSTAMP:20260420T121305Z
DESCRIPTION:SOAR events are for individuals age 13 and older. Registration 
 for each event closes the Sunday before the event at 6:00 pm.\n\nThis cele
 bration-style session focuses on helping participants build confidence in 
 asking for help when something online feels wrong. Using a Pokémon Trainer
  theme in honor of National Pokémon Day\, participants will explore real-l
 ife digital situations such as unsafe messages\, scary content\, and press
 ure to share personal information. Through interactive games\, role-play\,
  and guided discussion\, participants will practice the STOP • BLOCK • TEL
 L strategy and identify trusted helpers. The night concludes with Pokémon-
 themed free-choice activities and a positive group celebration.\n\nDetails
 :\n- Pokémon Trainer sign-in and themed arrival\n- Interactive lesson on b
 eing brave and asking for help\n- Pokémon-themed challenges and group game
 s\n- Free-choice Pokémon games\, cards\, and activities\n- Trainer celebra
 tion and take-home reminders\n- Pizza\n\nSOAR programming made possible by
  Connect2Everyone grant support from Greater Health Now.
DTSTART;TZID=America/Los_Angeles:20260227T170000
DTEND;TZID=America/Los_Angeles:20260227T190000
LOCATION:Elopement Risk Level 1 - With Volunteers
SUMMARY:SOAR Brave Trainers: Catch Safety\, Level Up Bravery
END:VEVENT
END:VCALENDAR
