BEGIN:VCALENDAR
VERSION:2.0
PRODID:-//www.wwvdn.org//NONSGML kigkonsult.se iCalcreator 2.30.10//
CALSCALE:GREGORIAN
METHOD:PUBLISH
UID:08f6de41-c3eb-4c6a-b1db-94249a631c4b
X-WR-CALDESC:SOAR events are for individuals age 13 and older. Registration
  for each event closes the Sunday before the event at 6:00 pm.\n\nPlease p
 urchase your ticket online if you are able. If not\, bring money for your 
 ticket\, snacks\, and beverages.\n\nJoin us for a fun and quirky movie exp
 erience as we watch The Sheep Detectives! Follow a clever flock of sheep a
 s they work together to solve a mystery after their beloved shepherd is go
 ne. Filled with humor\, teamwork\, and surprising twists\, this action-com
 edy adventure keeps everyone guessing. Participants will enjoy a lighthear
 ted movie outing with plenty of laughs\, plus opportunities for snacks and
  time with friends!\n\nPurchase your tickets here: The Sheep Detective Tic
 kets\, choose rows D or E only. Again it is the May 11th showing at 6:10 p
 m.\n\nSpanish Audio Available!\nSpanish-speaking friends can enjoy the mov
 ie using the TheaterEars App for real-time Spanish translation.\nDon’t for
 get to bring your headphones!\n\nDownload the app in advance:\n\nTheaterEa
 rs for iPhone - https://apps.apple.com/us/app/theaterears/id1011285354\n\n
 TheaterEars for Android - https://play.google.com/store/apps/details?id=co
 m.theaterears&hl=en_US&pli=1\n\nSOAR programming made possible by Connect2
 Everyone grant support from Greater Health Now.
X-WR-RELCALID:c904b0fe78c354fece4b0cf9ab4f1ce3
X-WR-TIMEZONE:America/Los_Angeles
BEGIN:VTIMEZONE
TZID:America/Los_Angeles
BEGIN:STANDARD
TZNAME:PST
DTSTART:20251102T020000
TZOFFSETFROM:-0700
TZOFFSETTO:-0800
RDATE:20261101T020000
RDATE:20271107T020000
END:STANDARD
BEGIN:DAYLIGHT
TZNAME:PDT
DTSTART:20260308T020000
TZOFFSETFROM:-0800
TZOFFSETTO:-0700
RDATE:20270314T020000
END:DAYLIGHT
END:VTIMEZONE
BEGIN:VEVENT
UID:df010cbb-e06d-4980-a09d-b5e4c6856be3
DTSTAMP:20260423T081053Z
DESCRIPTION:SOAR events are for individuals age 13 and older. Registration 
 for each event closes the Sunday before the event at 6:00 pm.\n\nPlease pu
 rchase your ticket online if you are able. If not\, bring money for your t
 icket\, snacks\, and beverages.\n\nJoin us for a fun and quirky movie expe
 rience as we watch The Sheep Detectives! Follow a clever flock of sheep as
  they work together to solve a mystery after their beloved shepherd is gon
 e. Filled with humor\, teamwork\, and surprising twists\, this action-come
 dy adventure keeps everyone guessing. Participants will enjoy a lightheart
 ed movie outing with plenty of laughs\, plus opportunities for snacks and 
 time with friends!\n\nPurchase your tickets here: The Sheep Detective Tick
 ets\, choose rows D or E only. Again it is the May 11th showing at 6:10 pm
 .\n\nSpanish Audio Available!\nSpanish-speaking friends can enjoy the movi
 e using the TheaterEars App for real-time Spanish translation.\nDon’t forg
 et to bring your headphones!\n\nDownload the app in advance:\n\nTheaterEar
 s for iPhone - https://apps.apple.com/us/app/theaterears/id1011285354\n\nT
 heaterEars for Android - https://play.google.com/store/apps/details?id=com
 .theaterears&hl=en_US&pli=1\n\nSOAR programming made possible by Connect2E
 veryone grant support from Greater Health Now.
DTSTART;TZID=America/Los_Angeles:20260511T175000
DTEND;TZID=America/Los_Angeles:20260511T202500
LOCATION:Elopement Risk Level 2 - Limited Volunteers
SUMMARY:SOAR: Movie Night (The Sheep Detectives)
END:VEVENT
END:VCALENDAR
