BEGIN:VCALENDAR
VERSION:2.0
PRODID:-//www.wwvdn.org//NONSGML kigkonsult.se iCalcreator 2.30.10//
CALSCALE:GREGORIAN
METHOD:PUBLISH
UID:2b91b816-cf67-48af-88a8-5321e8c18b64
X-WR-CALDESC:SOAR events are for individuals age 13 and older. Registration
  for each event closes the Sunday before the event at 6:00 pm.\n\nJoin us 
 for a lively and interactive night of Music Bingo! Instead of numbers\, yo
 ur bingo card will be filled with songs\, listen closely\, mark your card\
 , and sing along as you recognize your favorite tunes. This fun twist on a
  classic game encourages listening skills\, memory\, and friendly competit
 ion in a relaxed and inclusive environment. Whether you know every song or
  just enjoy the music\, it’s a great way to connect\, laugh\, and celebrat
 e together. Get ready for great music\, good vibes\, and exciting prizes!
 \n\nSOAR programming made possible by Connect2Everyone grant support from 
 Greater Health Now.
X-WR-RELCALID:df45e9766f665391dc434b25c084df82
X-WR-TIMEZONE:America/Los_Angeles
BEGIN:VTIMEZONE
TZID:America/Los_Angeles
BEGIN:STANDARD
TZNAME:PST
DTSTART:20251102T020000
TZOFFSETFROM:-0700
TZOFFSETTO:-0800
RDATE:20261101T020000
RDATE:20271107T020000
END:STANDARD
BEGIN:DAYLIGHT
TZNAME:PDT
DTSTART:20260308T020000
TZOFFSETFROM:-0800
TZOFFSETTO:-0700
RDATE:20270314T020000
END:DAYLIGHT
END:VTIMEZONE
BEGIN:VEVENT
UID:0f2a8c01-fac3-4cea-824f-ce8fdd876ee0
DTSTAMP:20260423T075643Z
DESCRIPTION:SOAR events are for individuals age 13 and older. Registration 
 for each event closes the Sunday before the event at 6:00 pm.\n\nJoin us f
 or a lively and interactive night of Music Bingo! Instead of numbers\, you
 r bingo card will be filled with songs\, listen closely\, mark your card\,
  and sing along as you recognize your favorite tunes. This fun twist on a 
 classic game encourages listening skills\, memory\, and friendly competiti
 on in a relaxed and inclusive environment. Whether you know every song or 
 just enjoy the music\, it’s a great way to connect\, laugh\, and celebrate
  together. Get ready for great music\, good vibes\, and exciting prizes!\n
 \nSOAR programming made possible by Connect2Everyone grant support from Gr
 eater Health Now.
DTSTART;TZID=America/Los_Angeles:20260519T170000
DTEND;TZID=America/Los_Angeles:20260519T190000
LOCATION:Elopement Risk Level 1 - With Volunteers
SUMMARY:SOAR: Music Bingo
END:VEVENT
END:VCALENDAR
