BEGIN:VCALENDAR
VERSION:2.0
PRODID:-//www.wwvdn.org//NONSGML kigkonsult.se iCalcreator 2.30.10//
CALSCALE:GREGORIAN
METHOD:PUBLISH
UID:9c894d3f-3ea1-46d1-8356-1eb891257735
X-WR-CALDESC:SOAR events are for individuals age 13 and older. Registration
  for each event closes the Sunday before the event at 6:00 pm.\n\nPlease p
 urchase your ticket online if you are able. If not\, bring money for your 
 ticket\, snacks\, and beverages.\n\nJoin us for an action-packed movie exp
 erience as we dive into the galaxy with The Mandalorian and Grogu! Follow 
 Din Djarin and Grogu on an exciting new adventure as they take on missions
  across the galaxy\, facing challenges and working together as a team. Par
 ticipants can relax\, enjoy snacks\, and share the experience with friends
 !\n\nPurchase your tickets here: The Mandalorian and Grogu Tickets\, choos
 e rows E or F only. Again it is the May 26th showing at 5:50 pm.\n\nSpanis
 h Audio Available!\nSpanish-speaking friends can enjoy the movie using the
  TheaterEars App for real-time Spanish translation.\nDon’t forget to bring
  your headphones!\n\nDownload the app in advance:\n\nTheaterEars for iPhon
 e - https://apps.apple.com/us/app/theaterears/id1011285354\n\nTheaterEars 
 for Android - https://play.google.com/store/apps/details?id=com.theaterear
 s&hl=en_US&pli=1\n\nSOAR programming made possible by Connect2Everyone gra
 nt support from Greater Health Now.
X-WR-RELCALID:1012a86d0872ef76e2780fdcfc1eb1cb
X-WR-TIMEZONE:America/Los_Angeles
BEGIN:VTIMEZONE
TZID:America/Los_Angeles
BEGIN:STANDARD
TZNAME:PST
DTSTART:20251102T020000
TZOFFSETFROM:-0700
TZOFFSETTO:-0800
RDATE:20261101T020000
RDATE:20271107T020000
END:STANDARD
BEGIN:DAYLIGHT
TZNAME:PDT
DTSTART:20260308T020000
TZOFFSETFROM:-0800
TZOFFSETTO:-0700
RDATE:20270314T020000
END:DAYLIGHT
END:VTIMEZONE
BEGIN:VEVENT
UID:6642d94a-4f02-4c88-a0fe-d1273791c1aa
DTSTAMP:20260423T080419Z
DESCRIPTION:SOAR events are for individuals age 13 and older. Registration 
 for each event closes the Sunday before the event at 6:00 pm.\n\nPlease pu
 rchase your ticket online if you are able. If not\, bring money for your t
 icket\, snacks\, and beverages.\n\nJoin us for an action-packed movie expe
 rience as we dive into the galaxy with The Mandalorian and Grogu! Follow D
 in Djarin and Grogu on an exciting new adventure as they take on missions 
 across the galaxy\, facing challenges and working together as a team. Part
 icipants can relax\, enjoy snacks\, and share the experience with friends!
 \n\nPurchase your tickets here: The Mandalorian and Grogu Tickets\, choose
  rows E or F only. Again it is the May 26th showing at 5:50 pm.\n\nSpanish
  Audio Available!\nSpanish-speaking friends can enjoy the movie using the 
 TheaterEars App for real-time Spanish translation.\nDon’t forget to bring 
 your headphones!\n\nDownload the app in advance:\n\nTheaterEars for iPhone
  - https://apps.apple.com/us/app/theaterears/id1011285354\n\nTheaterEars f
 or Android - https://play.google.com/store/apps/details?id=com.theaterears
 &hl=en_US&pli=1\n\nSOAR programming made possible by Connect2Everyone gran
 t support from Greater Health Now.
DTSTART;TZID=America/Los_Angeles:20260526T173000
DTEND;TZID=America/Los_Angeles:20260526T203000
LOCATION:Elopement Risk Level 2 - Limited Volunteers
SUMMARY:SOAR: Movie Night (The Mandalorian & Grogu)
END:VEVENT
END:VCALENDAR
