BEGIN:VCALENDAR
VERSION:2.0
PRODID:-//www.wwvdn.org//NONSGML kigkonsult.se iCalcreator 2.30.10//
CALSCALE:GREGORIAN
METHOD:PUBLISH
UID:2a6fb664-87bd-4f73-9fb6-b8ddf603b766
X-WR-CALDESC:SOAR events are for individuals age 13 and older. Registration
  for each event closes the Sunday before the event at 6:00 pm.\n\n$15 tick
 et includes Hot Dog and Soda\, participants may bring extra if they wish t
 o purchase other snacks and treats. MUST PAY WHEN YOU REGISTER! NO PAY LAT
 ER OPTION!\n\nJoin us for an exciting and community-filled evening as SOAR
  heads out to a Walla Walla Sweets baseball game! Cheer on the home team\,
  enjoy the energy of the crowd\, and experience the fun of America’s favor
 ite pastime in a welcoming and inclusive environment. Participants will ha
 ve the chance to connect with friends\, practice social skills\, and take 
 in all the sights\, sounds\, and traditions of a live baseball game. Sit b
 ack\, relax\, and don’t forget to grab some classic ballpark snacks while 
 you enjoy the game! \n\nSOAR programming made possible by Connect2Everyone
  grant support from Greater Health Now.
X-WR-RELCALID:7e662a3fa0bae8d4cacae20d7e0b9987
X-WR-TIMEZONE:America/Los_Angeles
BEGIN:VTIMEZONE
TZID:America/Los_Angeles
BEGIN:STANDARD
TZNAME:PST
DTSTART:20251102T020000
TZOFFSETFROM:-0700
TZOFFSETTO:-0800
RDATE:20261101T020000
RDATE:20271107T020000
END:STANDARD
BEGIN:DAYLIGHT
TZNAME:PDT
DTSTART:20260308T020000
TZOFFSETFROM:-0800
TZOFFSETTO:-0700
RDATE:20270314T020000
END:DAYLIGHT
END:VTIMEZONE
BEGIN:VEVENT
UID:d6515962-a881-465b-b0ac-6d4ab5088321
DTSTAMP:20260423T080346Z
DESCRIPTION:SOAR events are for individuals age 13 and older. Registration 
 for each event closes the Sunday before the event at 6:00 pm.\n\n$15 ticke
 t includes Hot Dog and Soda\, participants may bring extra if they wish to
  purchase other snacks and treats. MUST PAY WHEN YOU REGISTER! NO PAY LATE
 R OPTION!\n\nJoin us for an exciting and community-filled evening as SOAR 
 heads out to a Walla Walla Sweets baseball game! Cheer on the home team\, 
 enjoy the energy of the crowd\, and experience the fun of America’s favori
 te pastime in a welcoming and inclusive environment. Participants will hav
 e the chance to connect with friends\, practice social skills\, and take i
 n all the sights\, sounds\, and traditions of a live baseball game. Sit ba
 ck\, relax\, and don’t forget to grab some classic ballpark snacks while y
 ou enjoy the game! \n\nSOAR programming made possible by Connect2Everyone 
 grant support from Greater Health Now.
DTSTART;TZID=America/Los_Angeles:20260604T180000
DTEND;TZID=America/Los_Angeles:20260604T200000
LOCATION:Elopement Risk Level 2 - Limited Volunteers
SUMMARY:SOAR: Walla Walla Sweets Baseball Game
END:VEVENT
END:VCALENDAR
